Workbook

Sheet Debts
A1: Debt tracker: avalanche vs snowball
A2: Cents to Shares – free template. Yellow cells are yours to change; everything else is calculated.
A4: Monthly budget for debts (minimums + extra) | B4: =SUMIF(B7:B14,">0",D7:D14)+E4 | D4: Extra per month | E4: 150
A6: Debt | B6: Balance | C6: Interest % a year | D6: Minimum a month | E6: Avalanche: paid off in month | F6: Snowball: paid off in month
A7: Credit card | B7: 3000 | C7: 22 | D7: 90 | E7: =IF(N(B7)<=0,"",IF(COUNTIF('Avalanche'!AB4:AB183,">0.005")>=180,"over 15 years",COUNTIF('Avalanche'!AB4:AB183,">0.005")+1)) | F7: =IF(N(B7)<=0,"",IF(COUNTIF('Snowball'!AB4:AB183,">0.005")>=180,"over 15 years",COUNTIF('Snowball'!AB4:AB183,">0.005")+1))
A8: Car loan | B8: 8000 | C8: 7 | D8: 200 | E8: =IF(N(B8)<=0,"",IF(COUNTIF('Avalanche'!AC4:AC183,">0.005")>=180,"over 15 years",COUNTIF('Avalanche'!AC4:AC183,">0.005")+1)) | F8: =IF(N(B8)<=0,"",IF(COUNTIF('Snowball'!AC4:AC183,">0.005")>=180,"over 15 years",COUNTIF('Snowball'!AC4:AC183,">0.005")+1))
A9: Store card | B9: 600 | C9: 15 | D9: 30 | E9: =IF(N(B9)<=0,"",IF(COUNTIF('Avalanche'!AD4:AD183,">0.005")>=180,"over 15 years",COUNTIF('Avalanche'!AD4:AD183,">0.005")+1)) | F9: =IF(N(B9)<=0,"",IF(COUNTIF('Snowball'!AD4:AD183,">0.005")>=180,"over 15 years",COUNTIF('Snowball'!AD4:AD183,">0.005")+1))
E10: =IF(N(B10)<=0,"",IF(COUNTIF('Avalanche'!AE4:AE183,">0.005")>=180,"over 15 years",COUNTIF('Avalanche'!AE4:AE183,">0.005")+1)) | F10: =IF(N(B10)<=0,"",IF(COUNTIF('Snowball'!AE4:AE183,">0.005")>=180,"over 15 years",COUNTIF('Snowball'!AE4:AE183,">0.005")+1))
E11: =IF(N(B11)<=0,"",IF(COUNTIF('Avalanche'!AF4:AF183,">0.005")>=180,"over 15 years",COUNTIF('Avalanche'!AF4:AF183,">0.005")+1)) | F11: =IF(N(B11)<=0,"",IF(COUNTIF('Snowball'!AF4:AF183,">0.005")>=180,"over 15 years",COUNTIF('Snowball'!AF4:AF183,">0.005")+1))
E12: =IF(N(B12)<=0,"",IF(COUNTIF('Avalanche'!AG4:AG183,">0.005")>=180,"over 15 years",COUNTIF('Avalanche'!AG4:AG183,">0.005")+1)) | F12: =IF(N(B12)<=0,"",IF(COUNTIF('Snowball'!AG4:AG183,">0.005")>=180,"over 15 years",COUNTIF('Snowball'!AG4:AG183,">0.005")+1))
E13: =IF(N(B13)<=0,"",IF(COUNTIF('Avalanche'!AH4:AH183,">0.005")>=180,"over 15 years",COUNTIF('Avalanche'!AH4:AH183,">0.005")+1)) | F13: =IF(N(B13)<=0,"",IF(COUNTIF('Snowball'!AH4:AH183,">0.005")>=180,"over 15 years",COUNTIF('Snowball'!AH4:AH183,">0.005")+1))
E14: =IF(N(B14)<=0,"",IF(COUNTIF('Avalanche'!AI4:AI183,">0.005")>=180,"over 15 years",COUNTIF('Avalanche'!AI4:AI183,">0.005")+1)) | F14: =IF(N(B14)<=0,"",IF(COUNTIF('Snowball'!AI4:AI183,">0.005")>=180,"over 15 years",COUNTIF('Snowball'!AI4:AI183,">0.005")+1))
A17: Result | B17: Avalanche | C17: Snowball
A18: Debt-free after (months) | B18: =IF(COUNTIF('Avalanche'!C4:C183,">0.005")>=180,"over 15 years",COUNTIF('Avalanche'!C4:C183,">0.005")+1) | C18: =IF(COUNTIF('Snowball'!C4:C183,">0.005")>=180,"over 15 years",COUNTIF('Snowball'!C4:C183,">0.005")+1)
A19: Total interest paid | B19: =ROUND((SUM('Avalanche'!D4:D183)+SUM('Avalanche'!E4:E183)+SUM('Avalanche'!F4:F183)+SUM('Avalanche'!G4:G183)+SUM('Avalanche'!H4:H183)+SUM('Avalanche'!I4:I183)+SUM('Avalanche'!J4:J183)+SUM('Avalanche'!K4:K183))-SUM(B7:B14)-(SUM('Avalanche'!AB4:AB182)+SUM('Avalanche'!AC4:AC182)+SUM('Avalanche'!AD4:AD182)+SUM('Avalanche'!AE4:AE182)+SUM('Avalanche'!AF4:AF182)+SUM('Avalanche'!AG4:AG182)+SUM('Avalanche'!AH4:AH182)+SUM('Avalanche'!AI4:AI182)),2) | C19: =ROUND((SUM('Snowball'!D4:D183)+SUM('Snowball'!E4:E183)+SUM('Snowball'!F4:F183)+SUM('Snowball'!G4:G183)+SUM('Snowball'!H4:H183)+SUM('Snowball'!I4:I183)+SUM('Snowball'!J4:J183)+SUM('Snowball'!K4:K183))-SUM(B7:B14)-(SUM('Snowball'!AB4:AB182)+SUM('Snowball'!AC4:AC182)+SUM('Snowball'!AD4:AD182)+SUM('Snowball'!AE4:AE182)+SUM('Snowball'!AF4:AF182)+SUM('Snowball'!AG4:AG182)+SUM('Snowball'!AH4:AH182)+SUM('Snowball'!AI4:AI182)),2)
A21: Avalanche pays the highest interest rate first (cheapest overall). Snowball pays the smallest balance first (quick wins). Freed-up minimums roll over to the next debt.
A22: Matching calculator: centstoshares.com/debt-payoff-calculator

Sheet Avalanche
A1: Avalanche: month-by-month (calculated, don't edit) | L1: 1 | M1: 2 | N1: 3 | O1: 4 | P1: 5 | Q1: 6 | R1: 7 | S1: 8
L2: =N(Debts!$C$7) | M2: =N(Debts!$C$8) | N2: =N(Debts!$C$9) | O2: =N(Debts!$C$10) | P2: =N(Debts!$C$11) | Q2: =N(Debts!$C$12) | R2: =N(Debts!$C$13) | S2: =N(Debts!$C$14)
A3: Month | B3: Money this month | C3: Total left | D3: D1 after interest | E3: D2 after interest | F3: D3 after interest | G3: D4 after interest | H3: D5 after interest | I3: D6 after interest | J3: D7 after interest | K3: D8 after interest | L3: D1 after minimum | M3: D2 after minimum | N3: D3 after minimum | O3: D4 after minimum | P3: D5 after minimum | Q3: D6 after minimum | R3: D7 after minimum | S3: D8 after minimum | T3: D1 order | U3: D2 order | V3: D3 order | W3: D4 order | X3: D5 order | Y3: D6 order | Z3: D7 order | AA3: D8 order | AB3: D1 end balance | AC3: D2 end balance | AD3: D3 end balance | AE3: D4 end balance | AF3: D5 end balance | AG3: D6 end balance | AH3: D7 end balance | AI3: D8 end balance
A4: 1 | B4: =Debts!$B$4-(SUM($D4:$K4)-SUM($L4:$S4)) | C4: =SUM($AB4:$AI4) | D4: =IF(N(Debts!$B$7)>0,N(Debts!$B$7)*(1+N(Debts!$C$7)/1200),0) | E4: =IF(N(Debts!$B$8)>0,N(Debts!$B$8)*(1+N(Debts!$C$8)/1200),0) | F4: =IF(N(Debts!$B$9)>0,N(Debts!$B$9)*(1+N(Debts!$C$9)/1200),0) | G4: =IF(N(Debts!$B$10)>0,N(Debts!$B$10)*(1+N(Debts!$C$10)/1200),0) | H4: =IF(N(Debts!$B$11)>0,N(Debts!$B$11)*(1+N(Debts!$C$11)/1200),0) | I4: =IF(N(Debts!$B$12)>0,N(Debts!$B$12)*(1+N(Debts!$C$12)/1200),0) | J4: =IF(N(Debts!$B$13)>0,N(Debts!$B$13)*(1+N(Debts!$C$13)/1200),0) | K4: =IF(N(Debts!$B$14)>0,N(Debts!$B$14)*(1+N(Debts!$C$14)/1200),0) | L4: =D4-MIN(N(Debts!$D$7),D4) | M4: =E4-MIN(N(Debts!$D$8),E4) | N4: =F4-MIN(N(Debts!$D$9),F4) | O4: =G4-MIN(N(Debts!$D$10),G4) | P4: =H4-MIN(N(Debts!$D$11),H4) | Q4: =I4-MIN(N(Debts!$D$12),I4) | R4: =J4-MIN(N(Debts!$D$13),J4) | S4: =K4-MIN(N(Debts!$D$14),K4) | T4: =IF(L4<=0.005,99,1+SUMPRODUCT(($L4:$S4>0.005)*(($L2:$S2>L$2)+($L2:$S2=L$2)*($L4:$S4<L4)+($L2:$S2=L$2)*($L4:$S4=L4)*($L1:$S1<L$1)))) | U4: =IF(M4<=0.005,99,1+SUMPRODUCT(($L4:$S4>0.005)*(($L2:$S2>M$2)+($L2:$S2=M$2)*($L4:$S4<M4)+($L2:$S2=M$2)*($L4:$S4=M4)*($L1:$S1<M$1)))) | V4: =IF(N4<=0.005,99,1+SUMPRODUCT(($L4:$S4>0.005)*(($L2:$S2>N$2)+($L2:$S2=N$2)*($L4:$S4<N4)+($L2:$S2=N$2)*($L4:$S4=N4)*($L1:$S1<N$1)))) | W4: =IF(O4<=0.005,99,1+SUMPRODUCT(($L4:$S4>0.005)*(($L2:$S2>O$2)+($L2:$S2=O$2)*($L4:$S4<O4)+($L2:$S2=O$2)*($L4:$S4=O4)*($L1:$S1<O$1)))) | X4: =IF(P4<=0.005,99,1+SUMPRODUCT(($L4:$S4>0.005)*(($L2:$S2>P$2)+($L2:$S2=P$2)*($L4:$S4<P4)+($L2:$S2=P$2)*($L4:$S4=P4)*($L1:$S1<P$1)))) | Y4: =IF(Q4<=0.005,99,1+SUMPRODUCT(($L4:$S4>0.005)*(($L2:$S2>Q$2)+($L2:$S2=Q$2)*($L4:$S4<Q4)+($L2:$S2=Q$2)*($L4:$S4=Q4)*($L1:$S1<Q$1)))) | Z4: =IF(R4<=0.005,99,1+SUMPRODUCT(($L4:$S4>0.005)*(($L2:$S2>R$2)+($L2:$S2=R$2)*($L4:$S4<R4)+($L2:$S2=R$2)*($L4:$S4=R4)*($L1:$S1<R$1)))) | AA4: =IF(S4<=0.005,99,1+SUMPRODUCT(($L4:$S4>0.005)*(($L2:$S2>S$2)+($L2:$S2=S$2)*($L4:$S4<S4)+($L2:$S2=S$2)*($L4:$S4=S4)*($L1:$S1<S$1)))) | AB4: =IF(L4-MIN(L4,MAX(0,$B4-SUMPRODUCT(($T4:$AA4<T4)*$L4:$S4)))<=0.005,0,L4-MIN(L4,MAX(0,$B4-SUMPRODUCT(($T4:$AA4<T4)*$L4:$S4)))) | AC4: =IF(M4-MIN(M4,MAX(0,$B4-SUMPRODUCT(($T4:$AA4<U4)*$L4:$S4)))<=0.005,0,M4-MIN(M4,MAX(0,$B4-SUMPRODUCT(($T4:$AA4<U4)*$L4:$S4)))) | AD4: =IF(N4-MIN(N4,MAX(0,$B4-SUMPRODUCT(($T4:$AA4<V4)*$L4:$S4)))<=0.005,0,N4-MIN(N4,MAX(0,$B4-SUMPRODUCT(($T4:$AA4<V4)*$L4:$S4)))) | AE4: =IF(O4-MIN(O4,MAX(0,$B4-SUMPRODUCT(($T4:$AA4<W4)*$L4:$S4)))<=0.005,0,O4-MIN(O4,MAX(0,$B4-SUMPRODUCT(($T4:$AA4<W4)*$L4:$S4)))) | AF4: =IF(P4-MIN(P4,MAX(0,$B4-SUMPRODUCT(($T4:$AA4<X4)*$L4:$S4)))<=0.005,0,P4-MIN(P4,MAX(0,$B4-SUMPRODUCT(($T4:$AA4<X4)*$L4:$S4)))) | AG4: =IF(Q4-MIN(Q4,MAX(0,$B4-SUMPRODUCT(($T4:$AA4<Y4)*$L4:$S4)))<=0.005,0,Q4-MIN(Q4,MAX(0,$B4-SUMPRODUCT(($T4:$AA4<Y4)*$L4:$S4)))) | AH4: =IF(R4-MIN(R4,MAX(0,$B4-SUMPRODUCT(($T4:$AA4<Z4)*$L4:$S4)))<=0.005,0,R4-MIN(R4,MAX(0,$B4-SUMPRODUCT(($T4:$AA4<Z4)*$L4:$S4)))) | AI4: =IF(S4-MIN(S4,MAX(0,$B4-SUMPRODUCT(($T4:$AA4<AA4)*$L4:$S4)))<=0.005,0,S4-MIN(S4,MAX(0,$B4-SUMPRODUCT(($T4:$AA4<AA4)*$L4:$S4))))
A5: 2 | B5: =Debts!$B$4-(SUM($D5:$K5)-SUM($L5:$S5)) | C5: =SUM($AB5:$AI5) | D5: =IF(N(AB4)>0,N(AB4)*(1+N(Debts!$C$7)/1200),0) | E5: =IF(N(AC4)>0,N(AC4)*(1+N(Debts!$C$8)/1200),0) | F5: =IF(N(AD4)>0,N(AD4)*(1+N(Debts!$C$9)/1200),0) | G5: =IF(N(AE4)>0,N(AE4)*(1+N(Debts!$C$10)/1200),0) | H5: =IF(N(AF4)>0,N(AF4)*(1+N(Debts!$C$11)/1200),0) | I5: =IF(N(AG4)>0,N(AG4)*(1+N(Debts!$C$12)/1200),0) | J5: =IF(N(AH4)>0,N(AH4)*(1+N(Debts!$C$13)/1200),0) | K5: =IF(N(AI4)>0,N(AI4)*(1+N(Debts!$C$14)/1200),0) | L5: =D5-MIN(N(Debts!$D$7),D5) | M5: =E5-MIN(N(Debts!$D$8),E5) | N5: =F5-MIN(N(Debts!$D$9),F5) | O5: =G5-MIN(N(Debts!$D$10),G5) | P5: =H5-MIN(N(Debts!$D$11),H5) | Q5: =I5-MIN(N(Debts!$D$12),I5) | R5: =J5-MIN(N(Debts!$D$13),J5) | S5: =K5-MIN(N(Debts!$D$14),K5) | T5: =IF(L5<=0.005,99,1+SUMPRODUCT(($L5:$S5>0.005)*(($L2:$S2>L$2)+($L2:$S2=L$2)*($L5:$S5<L5)+($L2:$S2=L$2)*($L5:$S5=L5)*($L1:$S1<L$1)))) | U5: =IF(M5<=0.005,99,1+SUMPRODUCT(($L5:$S5>0.005)*(($L2:$S2>M$2)+($L2:$S2=M$2)*($L5:$S5<M5)+($L2:$S2=M$2)*($L5:$S5=M5)*($L1:$S1<M$1)))) | V5: =IF(N5<=0.005,99,1+SUMPRODUCT(($L5:$S5>0.005)*(($L2:$S2>N$2)+($L2:$S2=N$2)*($L5:$S5<N5)+($L2:$S2=N$2)*($L5:$S5=N5)*($L1:$S1<N$1)))) | W5: =IF(O5<=0.005,99,1+SUMPRODUCT(($L5:$S5>0.005)*(($L2:$S2>O$2)+($L2:$S2=O$2)*($L5:$S5<O5)+($L2:$S2=O$2)*($L5:$S5=O5)*($L1:$S1<O$1)))) | X5: =IF(P5<=0.005,99,1+SUMPRODUCT(($L5:$S5>0.005)*(($L2:$S2>P$2)+($L2:$S2=P$2)*($L5:$S5<P5)+($L2:$S2=P$2)*($L5:$S5=P5)*($L1:$S1<P$1)))) | Y5: =IF(Q5<=0.005,99,1+SUMPRODUCT(($L5:$S5>0.005)*(($L2:$S2>Q$2)+($L2:$S2=Q$2)*($L5:$S5<Q5)+($L2:$S2=Q$2)*($L5:$S5=Q5)*($L1:$S1<Q$1)))) | Z5: =IF(R5<=0.005,99,1+SUMPRODUCT(($L5:$S5>0.005)*(($L2:$S2>R$2)+($L2:$S2=R$2)*($L5:$S5<R5)+($L2:$S2=R$2)*($L5:$S5=R5)*($L1:$S1<R$1)))) | AA5: =IF(S5<=0.005,99,1+SUMPRODUCT(($L5:$S5>0.005)*(($L2:$S2>S$2)+($L2:$S2=S$2)*($L5:$S5<S5)+($L2:$S2=S$2)*($L5:$S5=S5)*($L1:$S1<S$1)))) | AB5: =IF(L5-MIN(L5,MAX(0,$B5-SUMPRODUCT(($T5:$AA5<T5)*$L5:$S5)))<=0.005,0,L5-MIN(L5,MAX(0,$B5-SUMPRODUCT(($T5:$AA5<T5)*$L5:$S5)))) | AC5: =IF(M5-MIN(M5,MAX(0,$B5-SUMPRODUCT(($T5:$AA5<U5)*$L5:$S5)))<=0.005,0,M5-MIN(M5,MAX(0,$B5-SUMPRODUCT(($T5:$AA5<U5)*$L5:$S5)))) | AD5: =IF(N5-MIN(N5,MAX(0,$B5-SUMPRODUCT(($T5:$AA5<V5)*$L5:$S5)))<=0.005,0,N5-MIN(N5,MAX(0,$B5-SUMPRODUCT(($T5:$AA5<V5)*$L5:$S5)))) | AE5: =IF(O5-MIN(O5,MAX(0,$B5-SUMPRODUCT(($T5:$AA5<W5)*$L5:$S5)))<=0.005,0,O5-MIN(O5,MAX(0,$B5-SUMPRODUCT(($T5:$AA5<W5)*$L5:$S5)))) | AF5: =IF(P5-MIN(P5,MAX(0,$B5-SUMPRODUCT(($T5:$AA5<X5)*$L5:$S5)))<=0.005,0,P5-MIN(P5,MAX(0,$B5-SUMPRODUCT(($T5:$AA5<X5)*$L5:$S5)))) | AG5: =IF(Q5-MIN(Q5,MAX(0,$B5-SUMPRODUCT(($T5:$AA5<Y5)*$L5:$S5)))<=0.005,0,Q5-MIN(Q5,MAX(0,$B5-SUMPRODUCT(($T5:$AA5<Y5)*$L5:$S5)))) | AH5: =IF(R5-MIN(R5,MAX(0,$B5-SUMPRODUCT(($T5:$AA5<Z5)*$L5:$S5)))<=0.005,0,R5-MIN(R5,MAX(0,$B5-SUMPRODUCT(($T5:$AA5<Z5)*$L5:$S5)))) | AI5: =IF(S5-MIN(S5,MAX(0,$B5-SUMPRODUCT(($T5:$AA5<AA5)*$L5:$S5)))<=0.005,0,S5-MIN(S5,MAX(0,$B5-SUMPRODUCT(($T5:$AA5<AA5)*$L5:$S5))))
A6: 3 | B6: =Debts!$B$4-(SUM($D6:$K6)-SUM($L6:$S6)) | C6: =SUM($AB6:$AI6) | D6: =IF(N(AB5)>0,N(AB5)*(1+N(Debts!$C$7)/1200),0) | E6: =IF(N(AC5)>0,N(AC5)*(1+N(Debts!$C$8)/1200),0) | F6: =IF(N(AD5)>0,N(AD5)*(1+N(Debts!$C$9)/1200),0) | G6: =IF(N(AE5)>0,N(AE5)*(1+N(Debts!$C$10)/1200),0) | H6: =IF(N(AF5)>0,N(AF5)*(1+N(Debts!$C$11)/1200),0) | I6: =IF(N(AG5)>0,N(AG5)*(1+N(Debts!$C$12)/1200),0) | J6: =IF(N(AH5)>0,N(AH5)*(1+N(Debts!$C$13)/1200),0) | K6: =IF(N(AI5)>0,N(AI5)*(1+N(Debts!$C$14)/1200),0) | L6: =D6-MIN(N(Debts!$D$7),D6) | M6: =E6-MIN(N(Debts!$D$8),E6) | N6: =F6-MIN(N(Debts!$D$9),F6) | O6: =G6-MIN(N(Debts!$D$10),G6) | P6: =H6-MIN(N(Debts!$D$11),H6) | Q6: =I6-MIN(N(Debts!$D$12),I6) | R6: =J6-MIN(N(Debts!$D$13),J6) | S6: =K6-MIN(N(Debts!$D$14),K6) | T6: =IF(L6<=0.005,99,1+SUMPRODUCT(($L6:$S6>0.005)*(($L2:$S2>L$2)+($L2:$S2=L$2)*($L6:$S6<L6)+($L2:$S2=L$2)*($L6:$S6=L6)*($L1:$S1<L$1)))) | U6: =IF(M6<=0.005,99,1+SUMPRODUCT(($L6:$S6>0.005)*(($L2:$S2>M$2)+($L2:$S2=M$2)*($L6:$S6<M6)+($L2:$S2=M$2)*($L6:$S6=M6)*($L1:$S1<M$1)))) | V6: =IF(N6<=0.005,99,1+SUMPRODUCT(($L6:$S6>0.005)*(($L2:$S2>N$2)+($L2:$S2=N$2)*($L6:$S6<N6)+($L2:$S2=N$2)*($L6:$S6=N6)*($L1:$S1<N$1)))) | W6: =IF(O6<=0.005,99,1+SUMPRODUCT(($L6:$S6>0.005)*(($L2:$S2>O$2)+($L2:$S2=O$2)*($L6:$S6<O6)+($L2:$S2=O$2)*($L6:$S6=O6)*($L1:$S1<O$1)))) | X6: =IF(P6<=0.005,99,1+SUMPRODUCT(($L6:$S6>0.005)*(($L2:$S2>P$2)+($L2:$S2=P$2)*($L6:$S6<P6)+($L2:$S2=P$2)*($L6:$S6=P6)*($L1:$S1<P$1)))) | Y6: =IF(Q6<=0.005,99,1+SUMPRODUCT(($L6:$S6>0.005)*(($L2:$S2>Q$2)+($L2:$S2=Q$2)*($L6:$S6<Q6)+($L2:$S2=Q$2)*($L6:$S6=Q6)*($L1:$S1<Q$1)))) | Z6: =IF(R6<=0.005,99,1+SUMPRODUCT(($L6:$S6>0.005)*(($L2:$S2>R$2)+($L2:$S2=R$2)*($L6:$S6<R6)+($L2:$S2=R$2)*($L6:$S6=R6)*($L1:$S1<R$1)))) | AA6: =IF(S6<=0.005,99,1+SUMPRODUCT(($L6:$S6>0.005)*(($L2:$S2>S$2)+($L2:$S2=S$2)*($L6:$S6<S6)+($L2:$S2=S$2)*($L6:$S6=S6)*($L1:$S1<S$1)))) | AB6: =IF(L6-MIN(L6,MAX(0,$B6-SUMPRODUCT(($T6:$AA6<T6)*$L6:$S6)))<=0.005,0,L6-MIN(L6,MAX(0,$B6-SUMPRODUCT(($T6:$AA6<T6)*$L6:$S6)))) | AC6: =IF(M6-MIN(M6,MAX(0,$B6-SUMPRODUCT(($T6:$AA6<U6)*$L6:$S6)))<=0.005,0,M6-MIN(M6,MAX(0,$B6-SUMPRODUCT(($T6:$AA6<U6)*$L6:$S6)))) | AD6: =IF(N6-MIN(N6,MAX(0,$B6-SUMPRODUCT(($T6:$AA6<V6)*$L6:$S6)))<=0.005,0,N6-MIN(N6,MAX(0,$B6-SUMPRODUCT(($T6:$AA6<V6)*$L6:$S6)))) | AE6: =IF(O6-MIN(O6,MAX(0,$B6-SUMPRODUCT(($T6:$AA6<W6)*$L6:$S6)))<=0.005,0,O6-MIN(O6,MAX(0,$B6-SUMPRODUCT(($T6:$AA6<W6)*$L6:$S6)))) | AF6: =IF(P6-MIN(P6,MAX(0,$B6-SUMPRODUCT(($T6:$AA6<X6)*$L6:$S6)))<=0.005,0,P6-MIN(P6,MAX(0,$B6-SUMPRODUCT(($T6:$AA6<X6)*$L6:$S6)))) | AG6: =IF(Q6-MIN(Q6,MAX(0,$B6-SUMPRODUCT(($T6:$AA6<Y6)*$L6:$S6)))<=0.005,0,Q6-MIN(Q6,MAX(0,$B6-SUMPRODUCT(($T6:$AA6<Y6)*$L6:$S6)))) | AH6: =IF(R6-MIN(R6,MAX(0,$B6-SUMPRODUCT(($T6:$AA6<Z6)*$L6:$S6)))<=0.005,0,R6-MIN(R6,MAX(0,$B6-SUMPRODUCT(($T6:$AA6<Z6)*$L6:$S6)))) | AI6: =IF(S6-MIN(S6,MAX(0,$B6-SUMPRODUCT(($T6:$AA6<AA6)*$L6:$S6)))<=0.005,0,S6-MIN(S6,MAX(0,$B6-SUMPRODUCT(($T6:$AA6<AA6)*$L6:$S6))))
A7: 4 | B7: =Debts!$B$4-(SUM($D7:$K7)-SUM($L7:$S7)) | C7: =SUM($AB7:$AI7) | D7: =IF(N(AB6)>0,N(AB6)*(1+N(Debts!$C$7)/1200),0) | E7: =IF(N(AC6)>0,N(AC6)*(1+N(Debts!$C$8)/1200),0) | F7: =IF(N(AD6)>0,N(AD6)*(1+N(Debts!$C$9)/1200),0) | G7: =IF(N(AE6)>0,N(AE6)*(1+N(Debts!$C$10)/1200),0) | H7: =IF(N(AF6)>0,N(AF6)*(1+N(Debts!$C$11)/1200),0) | I7: =IF(N(AG6)>0,N(AG6)*(1+N(Debts!$C$12)/1200),0) | J7: =IF(N(AH6)>0,N(AH6)*(1+N(Debts!$C$13)/1200),0) | K7: =IF(N(AI6)>0,N(AI6)*(1+N(Debts!$C$14)/1200),0) | L7: =D7-MIN(N(Debts!$D$7),D7) | M7: =E7-MIN(N(Debts!$D$8),E7) | N7: =F7-MIN(N(Debts!$D$9),F7) | O7: =G7-MIN(N(Debts!$D$10),G7) | P7: =H7-MIN(N(Debts!$D$11),H7) | Q7: =I7-MIN(N(Debts!$D$12),I7) | R7: =J7-MIN(N(Debts!$D$13),J7) | S7: =K7-MIN(N(Debts!$D$14),K7) | T7: =IF(L7<=0.005,99,1+SUMPRODUCT(($L7:$S7>0.005)*(($L2:$S2>L$2)+($L2:$S2=L$2)*($L7:$S7<L7)+($L2:$S2=L$2)*($L7:$S7=L7)*($L1:$S1<L$1)))) | U7: =IF(M7<=0.005,99,1+SUMPRODUCT(($L7:$S7>0.005)*(($L2:$S2>M$2)+($L2:$S2=M$2)*($L7:$S7<M7)+($L2:$S2=M$2)*($L7:$S7=M7)*($L1:$S1<M$1)))) | V7: =IF(N7<=0.005,99,1+SUMPRODUCT(($L7:$S7>0.005)*(($L2:$S2>N$2)+($L2:$S2=N$2)*($L7:$S7<N7)+($L2:$S2=N$2)*($L7:$S7=N7)*($L1:$S1<N$1)))) | W7: =IF(O7<=0.005,99,1+SUMPRODUCT(($L7:$S7>0.005)*(($L2:$S2>O$2)+($L2:$S2=O$2)*($L7:$S7<O7)+($L2:$S2=O$2)*($L7:$S7=O7)*($L1:$S1<O$1)))) | X7: =IF(P7<=0.005,99,1+SUMPRODUCT(($L7:$S7>0.005)*(($L2:$S2>P$2)+($L2:$S2=P$2)*($L7:$S7<P7)+($L2:$S2=P$2)*($L7:$S7=P7)*($L1:$S1<P$1)))) | Y7: =IF(Q7<=0.005,99,1+SUMPRODUCT(($L7:$S7>0.005)*(($L2:$S2>Q$2)+($L2:$S2=Q$2)*($L7:$S7<Q7)+($L2:$S2=Q$2)*($L7:$S7=Q7)*($L1:$S1<Q$1)))) | Z7: =IF(R7<=0.005,99,1+SUMPRODUCT(($L7:$S7>0.005)*(($L2:$S2>R$2)+($L2:$S2=R$2)*($L7:$S7<R7)+($L2:$S2=R$2)*($L7:$S7=R7)*($L1:$S1<R$1)))) | AA7: =IF(S7<=0.005,99,1+SUMPRODUCT(($L7:$S7>0.005)*(($L2:$S2>S$2)+($L2:$S2=S$2)*($L7:$S7<S7)+($L2:$S2=S$2)*($L7:$S7=S7)*($L1:$S1<S$1)))) | AB7: =IF(L7-MIN(L7,MAX(0,$B7-SUMPRODUCT(($T7:$AA7<T7)*$L7:$S7)))<=0.005,0,L7-MIN(L7,MAX(0,$B7-SUMPRODUCT(($T7:$AA7<T7)*$L7:$S7)))) | AC7: =IF(M7-MIN(M7,MAX(0,$B7-SUMPRODUCT(($T7:$AA7<U7)*$L7:$S7)))<=0.005,0,M7-MIN(M7,MAX(0,$B7-SUMPRODUCT(($T7:$AA7<U7)*$L7:$S7)))) | AD7: =IF(N7-MIN(N7,MAX(0,$B7-SUMPRODUCT(($T7:$AA7<V7)*$L7:$S7)))<=0.005,0,N7-MIN(N7,MAX(0,$B7-SUMPRODUCT(($T7:$AA7<V7)*$L7:$S7)))) | AE7: =IF(O7-MIN(O7,MAX(0,$B7-SUMPRODUCT(($T7:$AA7<W7)*$L7:$S7)))<=0.005,0,O7-MIN(O7,MAX(0,$B7-SUMPRODUCT(($T7:$AA7<W7)*$L7:$S7)))) | AF7: =IF(P7-MIN(P7,MAX(0,$B7-SUMPRODUCT(($T7:$AA7<X7)*$L7:$S7)))<=0.005,0,P7-MIN(P7,MAX(0,$B7-SUMPRODUCT(($T7:$AA7<X7)*$L7:$S7)))) | AG7: =IF(Q7-MIN(Q7,MAX(0,$B7-SUMPRODUCT(($T7:$AA7<Y7)*$L7:$S7)))<=0.005,0,Q7-MIN(Q7,MAX(0,$B7-SUMPRODUCT(($T7:$AA7<Y7)*$L7:$S7)))) | AH7: =IF(R7-MIN(R7,MAX(0,$B7-SUMPRODUCT(($T7:$AA7<Z7)*$L7:$S7)))<=0.005,0,R7-MIN(R7,MAX(0,$B7-SUMPRODUCT(($T7:$AA7<Z7)*$L7:$S7)))) | AI7: =IF(S7-MIN(S7,MAX(0,$B7-SUMPRODUCT(($T7:$AA7<AA7)*$L7:$S7)))<=0.005,0,S7-MIN(S7,MAX(0,$B7-SUMPRODUCT(($T7:$AA7<AA7)*$L7:$S7))))
A8: 5 | B8: =Debts!$B$4-(SUM($D8:$K8)-SUM($L8:$S8)) | C8: =SUM($AB8:$AI8) | D8: =IF(N(AB7)>0,N(AB7)*(1+N(Debts!$C$7)/1200),0) | E8: =IF(N(AC7)>0,N(AC7)*(1+N(Debts!$C$8)/1200),0) | F8: =IF(N(AD7)>0,N(AD7)*(1+N(Debts!$C$9)/1200),0) | G8: =IF(N(AE7)>0,N(AE7)*(1+N(Debts!$C$10)/1200),0) | H8: =IF(N(AF7)>0,N(AF7)*(1+N(Debts!$C$11)/1200),0) | I8: =IF(N(AG7)>0,N(AG7)*(1+N(Debts!$C$12)/1200),0) | J8: =IF(N(AH7)>0,N(AH7)*(1+N(Debts!$C$13)/1200),0) | K8: =IF(N(AI7)>0,N(AI7)*(1+N(Debts!$C$14)/1200),0) | L8: =D8-MIN(N(Debts!$D$7),D8) | M8: =E8-MIN(N(Debts!$D$8),E8) | N8: =F8-MIN(N(Debts!$D$9),F8) | O8: =G8-MIN(N(Debts!$D$10),G8) | P8: =H8-MIN(N(Debts!$D$11),H8) | Q8: =I8-MIN(N(Debts!$D$12),I8) | R8: =J8-MIN(N(Debts!$D$13),J8) | S8: =K8-MIN(N(Debts!$D$14),K8) | T8: =IF(L8<=0.005,99,1+SUMPRODUCT(($L8:$S8>0.005)*(($L2:$S2>L$2)+($L2:$S2=L$2)*($L8:$S8<L8)+($L2:$S2=L$2)*($L8:$S8=L8)*($L1:$S1<L$1)))) | U8: =IF(M8<=0.005,99,1+SUMPRODUCT(($L8:$S8>0.005)*(($L2:$S2>M$2)+($L2:$S2=M$2)*($L8:$S8<M8)+($L2:$S2=M$2)*($L8:$S8=M8)*($L1:$S1<M$1)))) | V8: =IF(N8<=0.005,99,1+SUMPRODUCT(($L8:$S8>0.005)*(($L2:$S2>N$2)+($L2:$S2=N$2)*($L8:$S8<N8)+($L2:$S2=N$2)*($L8:$S8=N8)*($L1:$S1<N$1)))) | W8: =IF(O8<=0.005,99,1+SUMPRODUCT(($L8:$S8>0.005)*(($L2:$S2>O$2)+($L2:$S2=O$2)*($L8:$S8<O8)+($L2:$S2=O$2)*($L8:$S8=O8)*($L1:$S1<O$1)))) | X8: =IF(P8<=0.005,99,1+SUMPRODUCT(($L8:$S8>0.005)*(($L2:$S2>P$2)+($L2:$S2=P$2)*($L8:$S8<P8)+($L2:$S2=P$2)*($L8:$S8=P8)*($L1:$S1<P$1)))) | Y8: =IF(Q8<=0.005,99,1+SUMPRODUCT(($L8:$S8>0.005)*(($L2:$S2>Q$2)+($L2:$S2=Q$2)*($L8:$S8<Q8)+($L2:$S2=Q$2)*($L8:$S8=Q8)*($L1:$S1<Q$1)))) | Z8: =IF(R8<=0.005,99,1+SUMPRODUCT(($L8:$S8>0.005)*(($L2:$S2>R$2)+($L2:$S2=R$2)*($L8:$S8<R8)+($L2:$S2=R$2)*($L8:$S8=R8)*($L1:$S1<R$1)))) | AA8: =IF(S8<=0.005,99,1+SUMPRODUCT(($L8:$S8>0.005)*(($L2:$S2>S$2)+($L2:$S2=S$2)*($L8:$S8<S8)+($L2:$S2=S$2)*($L8:$S8=S8)*($L1:$S1<S$1)))) | AB8: =IF(L8-MIN(L8,MAX(0,$B8-SUMPRODUCT(($T8:$AA8<T8)*$L8:$S8)))<=0.005,0,L8-MIN(L8,MAX(0,$B8-SUMPRODUCT(($T8:$AA8<T8)*$L8:$S8)))) | AC8: =IF(M8-MIN(M8,MAX(0,$B8-SUMPRODUCT(($T8:$AA8<U8)*$L8:$S8)))<=0.005,0,M8-MIN(M8,MAX(0,$B8-SUMPRODUCT(($T8:$AA8<U8)*$L8:$S8)))) | AD8: =IF(N8-MIN(N8,MAX(0,$B8-SUMPRODUCT(($T8:$AA8<V8)*$L8:$S8)))<=0.005,0,N8-MIN(N8,MAX(0,$B8-SUMPRODUCT(($T8:$AA8<V8)*$L8:$S8)))) | AE8: =IF(O8-MIN(O8,MAX(0,$B8-SUMPRODUCT(($T8:$AA8<W8)*$L8:$S8)))<=0.005,0,O8-MIN(O8,MAX(0,$B8-SUMPRODUCT(($T8:$AA8<W8)*$L8:$S8)))) | AF8: =IF(P8-MIN(P8,MAX(0,$B8-SUMPRODUCT(($T8:$AA8<X8)*$L8:$S8)))<=0.005,0,P8-MIN(P8,MAX(0,$B8-SUMPRODUCT(($T8:$AA8<X8)*$L8:$S8)))) | AG8: =IF(Q8-MIN(Q8,MAX(0,$B8-SUMPRODUCT(($T8:$AA8<Y8)*$L8:$S8)))<=0.005,0,Q8-MIN(Q8,MAX(0,$B8-SUMPRODUCT(($T8:$AA8<Y8)*$L8:$S8)))) | AH8: =IF(R8-MIN(R8,MAX(0,$B8-SUMPRODUCT(($T8:$AA8<Z8)*$L8:$S8)))<=0.005,0,R8-MIN(R8,MAX(0,$B8-SUMPRODUCT(($T8:$AA8<Z8)*$L8:$S8)))) | AI8: =IF(S8-MIN(S8,MAX(0,$B8-SUMPRODUCT(($T8:$AA8<AA8)*$L8:$S8)))<=0.005,0,S8-MIN(S8,MAX(0,$B8-SUMPRODUCT(($T8:$AA8<AA8)*$L8:$S8))))
A9: 6 | B9: =Debts!$B$4-(SUM($D9:$K9)-SUM($L9:$S9)) | C9: =SUM($AB9:$AI9) | D9: =IF(N(AB8)>0,N(AB8)*(1+N(Debts!$C$7)/1200),0) | E9: =IF(N(AC8)>0,N(AC8)*(1+N(Debts!$C$8)/1200),0) | F9: =IF(N(AD8)>0,N(AD8)*(1+N(Debts!$C$9)/1200),0) | G9: =IF(N(AE8)>0,N(AE8)*(1+N(Debts!$C$10)/1200),0) | H9: =IF(N(AF8)>0,N(AF8)*(1+N(Debts!$C$11)/1200),0) | I9: =IF(N(AG8)>0,N(AG8)*(1+N(Debts!$C$12)/1200),0) | J9: =IF(N(AH8)>0,N(AH8)*(1+N(Debts!$C$13)/1200),0) | K9: =IF(N(AI8)>0,N(AI8)*(1+N(Debts!$C$14)/1200),0) | L9: =D9-MIN(N(Debts!$D$7),D9) | M9: =E9-MIN(N(Debts!$D$8),E9) | N9: =F9-MIN(N(Debts!$D$9),F9) | O9: =G9-MIN(N(Debts!$D$10),G9) | P9: =H9-MIN(N(Debts!$D$11),H9) | Q9: =I9-MIN(N(Debts!$D$12),I9) | R9: =J9-MIN(N(Debts!$D$13),J9) | S9: =K9-MIN(N(Debts!$D$14),K9) | T9: =IF(L9<=0.005,99,1+SUMPRODUCT(($L9:$S9>0.005)*(($L2:$S2>L$2)+($L2:$S2=L$2)*($L9:$S9<L9)+($L2:$S2=L$2)*($L9:$S9=L9)*($L1:$S1<L$1)))) | U9: =IF(M9<=0.005,99,1+SUMPRODUCT(($L9:$S9>0.005)*(($L2:$S2>M$2)+($L2:$S2=M$2)*($L9:$S9<M9)+($L2:$S2=M$2)*($L9:$S9=M9)*($L1:$S1<M$1)))) | V9: =IF(N9<=0.005,99,1+SUMPRODUCT(($L9:$S9>0.005)*(($L2:$S2>N$2)+($L2:$S2=N$2)*($L9:$S9<N9)+($L2:$S2=N$2)*($L9:$S9=N9)*($L1:$S1<N$1)))) | W9: =IF(O9<=0.005,99,1+SUMPRODUCT(($L9:$S9>0.005)*(($L2:$S2>O$2)+($L2:$S2=O$2)*($L9:$S9<O9)+($L2:$S2=O$2)*($L9:$S9=O9)*($L1:$S1<O$1)))) | X9: =IF(P9<=0.005,99,1+SUMPRODUCT(($L9:$S9>0.005)*(($L2:$S2>P$2)+($L2:$S2=P$2)*($L9:$S9<P9)+($L2:$S2=P$2)*($L9:$S9=P9)*($L1:$S1<P$1)))) | Y9: =IF(Q9<=0.005,99,1+SUMPRODUCT(($L9:$S9>0.005)*(($L2:$S2>Q$2)+($L2:$S2=Q$2)*($L9:$S9<Q9)+($L2:$S2=Q$2)*($L9:$S9=Q9)*($L1:$S1<Q$1)))) | Z9: =IF(R9<=0.005,99,1+SUMPRODUCT(($L9:$S9>0.005)*(($L2:$S2>R$2)+($L2:$S2=R$2)*($L9:$S9<R9)+($L2:$S2=R$2)*($L9:$S9=R9)*($L1:$S1<R$1)))) | AA9: =IF(S9<=0.005,99,1+SUMPRODUCT(($L9:$S9>0.005)*(($L2:$S2>S$2)+($L2:$S2=S$2)*($L9:$S9<S9)+($L2:$S2=S$2)*($L9:$S9=S9)*($L1:$S1<S$1)))) | AB9: =IF(L9-MIN(L9,MAX(0,$B9-SUMPRODUCT(($T9:$AA9<T9)*$L9:$S9)))<=0.005,0,L9-MIN(L9,MAX(0,$B9-SUMPRODUCT(($T9:$AA9<T9)*$L9:$S9)))) | AC9: =IF(M9-MIN(M9,MAX(0,$B9-SUMPRODUCT(($T9:$AA9<U9)*$L9:$S9)))<=0.005,0,M9-MIN(M9,MAX(0,$B9-SUMPRODUCT(($T9:$AA9<U9)*$L9:$S9)))) | AD9: =IF(N9-MIN(N9,MAX(0,$B9-SUMPRODUCT(($T9:$AA9<V9)*$L9:$S9)))<=0.005,0,N9-MIN(N9,MAX(0,$B9-SUMPRODUCT(($T9:$AA9<V9)*$L9:$S9)))) | AE9: =IF(O9-MIN(O9,MAX(0,$B9-SUMPRODUCT(($T9:$AA9<W9)*$L9:$S9)))<=0.005,0,O9-MIN(O9,MAX(0,$B9-SUMPRODUCT(($T9:$AA9<W9)*$L9:$S9)))) | AF9: =IF(P9-MIN(P9,MAX(0,$B9-SUMPRODUCT(($T9:$AA9<X9)*$L9:$S9)))<=0.005,0,P9-MIN(P9,MAX(0,$B9-SUMPRODUCT(($T9:$AA9<X9)*$L9:$S9)))) | AG9: =IF(Q9-MIN(Q9,MAX(0,$B9-SUMPRODUCT(($T9:$AA9<Y9)*$L9:$S9)))<=0.005,0,Q9-MIN(Q9,MAX(0,$B9-SUMPRODUCT(($T9:$AA9<Y9)*$L9:$S9)))) | AH9: =IF(R9-MIN(R9,MAX(0,$B9-SUMPRODUCT(($T9:$AA9<Z9)*$L9:$S9)))<=0.005,0,R9-MIN(R9,MAX(0,$B9-SUMPRODUCT(($T9:$AA9<Z9)*$L9:$S9)))) | AI9: =IF(S9-MIN(S9,MAX(0,$B9-SUMPRODUCT(($T9:$AA9<AA9)*$L9:$S9)))<=0.005,0,S9-MIN(S9,MAX(0,$B9-SUMPRODUCT(($T9:$AA9<AA9)*$L9:$S9))))
A10: 7 | B10: =Debts!$B$4-(SUM($D10:$K10)-SUM($L10:$S10)) | C10: =SUM($AB10:$AI10) | D10: =IF(N(AB9)>0,N(AB9)*(1+N(Debts!$C$7)/1200),0) | E10: =IF(N(AC9)>0,N(AC9)*(1+N(Debts!$C$8)/1200),0) | F10: =IF(N(AD9)>0,N(AD9)*(1+N(Debts!$C$9)/1200),0) | G10: =IF(N(AE9)>0,N(AE9)*(1+N(Debts!$C$10)/1200),0) | H10: =IF(N(AF9)>0,N(AF9)*(1+N(Debts!$C$11)/1200),0) | I10: =IF(N(AG9)>0,N(AG9)*(1+N(Debts!$C$12)/1200),0) | J10: =IF(N(AH9)>0,N(AH9)*(1+N(Debts!$C$13)/1200),0) | K10: =IF(N(AI9)>0,N(AI9)*(1+N(Debts!$C$14)/1200),0) | L10: =D10-MIN(N(Debts!$D$7),D10) | M10: =E10-MIN(N(Debts!$D$8),E10) | N10: =F10-MIN(N(Debts!$D$9),F10) | O10: =G10-MIN(N(Debts!$D$10),G10) | P10: =H10-MIN(N(Debts!$D$11),H10) | Q10: =I10-MIN(N(Debts!$D$12),I10) | R10: =J10-MIN(N(Debts!$D$13),J10) | S10: =K10-MIN(N(Debts!$D$14),K10) | T10: =IF(L10<=0.005,99,1+SUMPRODUCT(($L10:$S10>0.005)*(($L2:$S2>L$2)+($L2:$S2=L$2)*($L10:$S10<L10)+($L2:$S2=L$2)*($L10:$S10=L10)*($L1:$S1<L$1)))) | U10: =IF(M10<=0.005,99,1+SUMPRODUCT(($L10:$S10>0.005)*(($L2:$S2>M$2)+($L2:$S2=M$2)*($L10:$S10<M10)+($L2:$S2=M$2)*($L10:$S10=M10)*($L1:$S1<M$1)))) | V10: =IF(N10<=0.005,99,1+SUMPRODUCT(($L10:$S10>0.005)*(($L2:$S2>N$2)+($L2:$S2=N$2)*($L10:$S10<N10)+($L2:$S2=N$2)*($L10:$S10=N10)*($L1:$S1<N$1)))) | W10: =IF(O10<=0.005,99,1+SUMPRODUCT(($L10:$S10>0.005)*(($L2:$S2>O$2)+($L2:$S2=O$2)*($L10:$S10<O10)+($L2:$S2=O$2)*($L10:$S10=O10)*($L1:$S1<O$1)))) | X10: =IF(P10<=0.005,99,1+SUMPRODUCT(($L10:$S10>0.005)*(($L2:$S2>P$2)+($L2:$S2=P$2)*($L10:$S10<P10)+($L2:$S2=P$2)*($L10:$S10=P10)*($L1:$S1<P$1)))) | Y10: =IF(Q10<=0.005,99,1+SUMPRODUCT(($L10:$S10>0.005)*(($L2:$S2>Q$2)+($L2:$S2=Q$2)*($L10:$S10<Q10)+($L2:$S2=Q$2)*($L10:$S10=Q10)*($L1:$S1<Q$1)))) | Z10: =IF(R10<=0.005,99,1+SUMPRODUCT(($L10:$S10>0.005)*(($L2:$S2>R$2)+($L2:$S2=R$2)*($L10:$S10<R10)+($L2:$S2=R$2)*($L10:$S10=R10)*($L1:$S1<R$1)))) | AA10: =IF(S10<=0.005,99,1+SUMPRODUCT(($L10:$S10>0.005)*(($L2:$S2>S$2)+($L2:$S2=S$2)*($L10:$S10<S10)+($L2:$S2=S$2)*($L10:$S10=S10)*($L1:$S1<S$1)))) | AB10: =IF(L10-MIN(L10,MAX(0,$B10-SUMPRODUCT(($T10:$AA10<T10)*$L10:$S10)))<=0.005,0,L10-MIN(L10,MAX(0,$B10-SUMPRODUCT(($T10:$AA10<T10)*$L10:$S10)))) | AC10: =IF(M10-MIN(M10,MAX(0,$B10-SUMPRODUCT(($T10:$AA10<U10)*$L10:$S10)))<=0.005,0,M10-MIN(M10,MAX(0,$B10-SUMPRODUCT(($T10:$AA10<U10)*$L10:$S10)))) | AD10: =IF(N10-MIN(N10,MAX(0,$B10-SUMPRODUCT(($T10:$AA10<V10)*$L10:$S10)))<=0.005,0,N10-MIN(N10,MAX(0,$B10-SUMPRODUCT(($T10:$AA10<V10)*$L10:$S10)))) | AE10: =IF(O10-MIN(O10,MAX(0,$B10-SUMPRODUCT(($T10:$AA10<W10)*$L10:$S10)))<=0.005,0,O10-MIN(O10,MAX(0,$B10-SUMPRODUCT(($T10:$AA10<W10)*$L10:$S10)))) | AF10: =IF(P10-MIN(P10,MAX(0,$B10-SUMPRODUCT(($T10:$AA10<X10)*$L10:$S10)))<=0.005,0,P10-MIN(P10,MAX(0,$B10-SUMPRODUCT(($T10:$AA10<X10)*$L10:$S10)))) | AG10: =IF(Q10-MIN(Q10,MAX(0,$B10-SUMPRODUCT(($T10:$AA10<Y10)*$L10:$S10)))<=0.005,0,Q10-MIN(Q10,MAX(0,$B10-SUMPRODUCT(($T10:$AA10<Y10)*$L10:$S10)))) | AH10: =IF(R10-MIN(R10,MAX(0,$B10-SUMPRODUCT(($T10:$AA10<Z10)*$L10:$S10)))<=0.005,0,R10-MIN(R10,MAX(0,$B10-SUMPRODUCT(($T10:$AA10<Z10)*$L10:$S10)))) | AI10: =IF(S10-MIN(S10,MAX(0,$B10-SUMPRODUCT(($T10:$AA10<AA10)*$L10:$S10)))<=0.005,0,S10-MIN(S10,MAX(0,$B10-SUMPRODUCT(($T10:$AA10<AA10)*$L10:$S10))))
A11: 8 | B11: =Debts!$B$4-(SUM($D11:$K11)-SUM($L11:$S11)) | C11: =SUM($AB11:$AI11) | D11: =IF(N(AB10)>0,N(AB10)*(1+N(Debts!$C$7)/1200),0) | E11: =IF(N(AC10)>0,N(AC10)*(1+N(Debts!$C$8)/1200),0) | F11: =IF(N(AD10)>0,N(AD10)*(1+N(Debts!$C$9)/1200),0) | G11: =IF(N(AE10)>0,N(AE10)*(1+N(Debts!$C$10)/1200),0) | H11: =IF(N(AF10)>0,N(AF10)*(1+N(Debts!$C$11)/1200),0) | I11: =IF(N(AG10)>0,N(AG10)*(1+N(Debts!$C$12)/1200),0) | J11: =IF(N(AH10)>0,N(AH10)*(1+N(Debts!$C$13)/1200),0) | K11: =IF(N(AI10)>0,N(AI10)*(1+N(Debts!$C$14)/1200),0) | L11: =D11-MIN(N(Debts!$D$7),D11) | M11: =E11-MIN(N(Debts!$D$8),E11) | N11: =F11-MIN(N(Debts!$D$9),F11) | O11: =G11-MIN(N(Debts!$D$10),G11) | P11: =H11-MIN(N(Debts!$D$11),H11) | Q11: =I11-MIN(N(Debts!$D$12),I11) | R11: =J11-MIN(N(Debts!$D$13),J11) | S11: =K11-MIN(N(Debts!$D$14),K11) | T11: =IF(L11<=0.005,99,1+SUMPRODUCT(($L11:$S11>0.005)*(($L2:$S2>L$2)+($L2:$S2=L$2)*($L11:$S11<L11)+($L2:$S2=L$2)*($L11:$S11=L11)*($L1:$S1<L$1)))) | U11: =IF(M11<=0.005,99,1+SUMPRODUCT(($L11:$S11>0.005)*(($L2:$S2>M$2)+($L2:$S2=M$2)*($L11:$S11<M11)+($L2:$S2=M$2)*($L11:$S11=M11)*($L1:$S1<M$1)))) | V11: =IF(N11<=0.005,99,1+SUMPRODUCT(($L11:$S11>0.005)*(($L2:$S2>N$2)+($L2:$S2=N$2)*($L11:$S11<N11)+($L2:$S2=N$2)*($L11:$S11=N11)*($L1:$S1<N$1)))) | W11: =IF(O11<=0.005,99,1+SUMPRODUCT(($L11:$S11>0.005)*(($L2:$S2>O$2)+($L2:$S2=O$2)*($L11:$S11<O11)+($L2:$S2=O$2)*($L11:$S11=O11)*($L1:$S1<O$1)))) | X11: =IF(P11<=0.005,99,1+SUMPRODUCT(($L11:$S11>0.005)*(($L2:$S2>P$2)+($L2:$S2=P$2)*($L11:$S11<P11)+($L2:$S2=P$2)*($L11:$S11=P11)*($L1:$S1<P$1)))) | Y11: =IF(Q11<=0.005,99,1+SUMPRODUCT(($L11:$S11>0.005)*(($L2:$S2>Q$2)+($L2:$S2=Q$2)*($L11:$S11<Q11)+($L2:$S2=Q$2)*($L11:$S11=Q11)*($L1:$S1<Q$1)))) | Z11: =IF(R11<=0.005,99,1+SUMPRODUCT(($L11:$S11>0.005)*(($L2:$S2>R$2)+($L2:$S2=R$2)*($L11:$S11<R11)+($L2:$S2=R$2)*($L11:$S11=R11)*($L1:$S1<R$1)))) | AA11: =IF(S11<=0.005,99,1+SUMPRODUCT(($L11:$S11>0.005)*(($L2:$S2>S$2)+($L2:$S2=S$2)*($L11:$S11<S11)+($L2:$S2=S$2)*($L11:$S11=S11)*($L1:$S1<S$1)))) | AB11: =IF(L11-MIN(L11,MAX(0,$B11-SUMPRODUCT(($T11:$AA11<T11)*$L11:$S11)))<=0.005,0,L11-MIN(L11,MAX(0,$B11-SUMPRODUCT(($T11:$AA11<T11)*$L11:$S11)))) | AC11: =IF(M11-MIN(M11,MAX(0,$B11-SUMPRODUCT(($T11:$AA11<U11)*$L11:$S11)))<=0.005,0,M11-MIN(M11,MAX(0,$B11-SUMPRODUCT(($T11:$AA11<U11)*$L11:$S11)))) | AD11: =IF(N11-MIN(N11,MAX(0,$B11-SUMPRODUCT(($T11:$AA11<V11)*$L11:$S11)))<=0.005,0,N11-MIN(N11,MAX(0,$B11-SUMPRODUCT(($T11:$AA11<V11)*$L11:$S11)))) | AE11: =IF(O11-MIN(O11,MAX(0,$B11-SUMPRODUCT(($T11:$AA11<W11)*$L11:$S11)))<=0.005,0,O11-MIN(O11,MAX(0,$B11-SUMPRODUCT(($T11:$AA11<W11)*$L11:$S11)))) | AF11: =IF(P11-MIN(P11,MAX(0,$B11-SUMPRODUCT(($T11:$AA11<X11)*$L11:$S11)))<=0.005,0,P11-MIN(P11,MAX(0,$B11-SUMPRODUCT(($T11:$AA11<X11)*$L11:$S11)))) | AG11: =IF(Q11-MIN(Q11,MAX(0,$B11-SUMPRODUCT(($T11:$AA11<Y11)*$L11:$S11)))<=0.005,0,Q11-MIN(Q11,MAX(0,$B11-SUMPRODUCT(($T11:$AA11<Y11)*$L11:$S11)))) | AH11: =IF(R11-MIN(R11,MAX(0,$B11-SUMPRODUCT(($T11:$AA11<Z11)*$L11:$S11)))<=0.005,0,R11-MIN(R11,MAX(0,$B11-SUMPRODUCT(($T11:$AA11<Z11)*$L11:$S11)))) | AI11: =IF(S11-MIN(S11,MAX(0,$B11-SUMPRODUCT(($T11:$AA11<AA11)*$L11:$S11)))<=0.005,0,S11-MIN(S11,MAX(0,$B11-SUMPRODUCT(($T11:$AA11<AA11)*$L11:$S11))))
A12: 9 | B12: =Debts!$B$4-(SUM($D12:$K12)-SUM($L12:$S12)) | C12: =SUM($AB12:$AI12) | D12: =IF(N(AB11)>0,N(AB11)*(1+N(Debts!$C$7)/1200),0) | E12: =IF(N(AC11)>0,N(AC11)*(1+N(Debts!$C$8)/1200),0) | F12: =IF(N(AD11)>0,N(AD11)*(1+N(Debts!$C$9)/1200),0) | G12: =IF(N(AE11)>0,N(AE11)*(1+N(Debts!$C$10)/1200),0) | H12: =IF(N(AF11)>0,N(AF11)*(1+N(Debts!$C$11)/1200),0) | I12: =IF(N(AG11)>0,N(AG11)*(1+N(Debts!$C$12)/1200),0) | J12: =IF(N(AH11)>0,N(AH11)*(1+N(Debts!$C$13)/1200),0) | K12: =IF(N(AI11)>0,N(AI11)*(1+N(Debts!$C$14)/1200),0) | L12: =D12-MIN(N(Debts!$D$7),D12) | M12: =E12-MIN(N(Debts!$D$8),E12) | N12: =F12-MIN(N(Debts!$D$9),F12) | O12: =G12-MIN(N(Debts!$D$10),G12) | P12: =H12-MIN(N(Debts!$D$11),H12) | Q12: =I12-MIN(N(Debts!$D$12),I12) | R12: =J12-MIN(N(Debts!$D$13),J12) | S12: =K12-MIN(N(Debts!$D$14),K12) | T12: =IF(L12<=0.005,99,1+SUMPRODUCT(($L12:$S12>0.005)*(($L2:$S2>L$2)+($L2:$S2=L$2)*($L12:$S12<L12)+($L2:$S2=L$2)*($L12:$S12=L12)*($L1:$S1<L$1)))) | U12: =IF(M12<=0.005,99,1+SUMPRODUCT(($L12:$S12>0.005)*(($L2:$S2>M$2)+($L2:$S2=M$2)*($L12:$S12<M12)+($L2:$S2=M$2)*($L12:$S12=M12)*($L1:$S1<M$1)))) | V12: =IF(N12<=0.005,99,1+SUMPRODUCT(($L12:$S12>0.005)*(($L2:$S2>N$2)+($L2:$S2=N$2)*($L12:$S12<N12)+($L2:$S2=N$2)*($L12:$S12=N12)*($L1:$S1<N$1)))) | W12: =IF(O12<=0.005,99,1+SUMPRODUCT(($L12:$S12>0.005)*(($L2:$S2>O$2)+($L2:$S2=O$2)*($L12:$S12<O12)+($L2:$S2=O$2)*($L12:$S12=O12)*($L1:$S1<O$1)))) | X12: =IF(P12<=0.005,99,1+SUMPRODUCT(($L12:$S12>0.005)*(($L2:$S2>P$2)+($L2:$S2=P$2)*($L12:$S12<P12)+($L2:$S2=P$2)*($L12:$S12=P12)*($L1:$S1<P$1)))) | Y12: =IF(Q12<=0.005,99,1+SUMPRODUCT(($L12:$S12>0.005)*(($L2:$S2>Q$2)+($L2:$S2=Q$2)*($L12:$S12<Q12)+($L2:$S2=Q$2)*($L12:$S12=Q12)*($L1:$S1<Q$1)))) | Z12: =IF(R12<=0.005,99,1+SUMPRODUCT(($L12:$S12>0.005)*(($L2:$S2>R$2)+($L2:$S2=R$2)*($L12:$S12<R12)+($L2:$S2=R$2)*($L12:$S12=R12)*($L1:$S1<R$1)))) | AA12: =IF(S12<=0.005,99,1+SUMPRODUCT(($L12:$S12>0.005)*(($L2:$S2>S$2)+($L2:$S2=S$2)*($L12:$S12<S12)+($L2:$S2=S$2)*($L12:$S12=S12)*($L1:$S1<S$1)))) | AB12: =IF(L12-MIN(L12,MAX(0,$B12-SUMPRODUCT(($T12:$AA12<T12)*$L12:$S12)))<=0.005,0,L12-MIN(L12,MAX(0,$B12-SUMPRODUCT(($T12:$AA12<T12)*$L12:$S12)))) | AC12: =IF(M12-MIN(M12,MAX(0,$B12-SUMPRODUCT(($T12:$AA12<U12)*$L12:$S12)))<=0.005,0,M12-MIN(M12,MAX(0,$B12-SUMPRODUCT(($T12:$AA12<U12)*$L12:$S12)))) | AD12: =IF(N12-MIN(N12,MAX(0,$B12-SUMPRODUCT(($T12:$AA12<V12)*$L12:$S12)))<=0.005,0,N12-MIN(N12,MAX(0,$B12-SUMPRODUCT(($T12:$AA12<V12)*$L12:$S12)))) | AE12: =IF(O12-MIN(O12,MAX(0,$B12-SUMPRODUCT(($T12:$AA12<W12)*$L12:$S12)))<=0.005,0,O12-MIN(O12,MAX(0,$B12-SUMPRODUCT(($T12:$AA12<W12)*$L12:$S12)))) | AF12: =IF(P12-MIN(P12,MAX(0,$B12-SUMPRODUCT(($T12:$AA12<X12)*$L12:$S12)))<=0.005,0,P12-MIN(P12,MAX(0,$B12-SUMPRODUCT(($T12:$AA12<X12)*$L12:$S12)))) | AG12: =IF(Q12-MIN(Q12,MAX(0,$B12-SUMPRODUCT(($T12:$AA12<Y12)*$L12:$S12)))<=0.005,0,Q12-MIN(Q12,MAX(0,$B12-SUMPRODUCT(($T12:$AA12<Y12)*$L12:$S12)))) | AH12: =IF(R12-MIN(R12,MAX(0,$B12-SUMPRODUCT(($T12:$AA12<Z12)*$L12:$S12)))<=0.005,0,R12-MIN(R12,MAX(0,$B12-SUMPRODUCT(($T12:$AA12<Z12)*$L12:$S12)))) | AI12: =IF(S12-MIN(S12,MAX(0,$B12-SUMPRODUCT(($T12:$AA12<AA12)*$L12:$S12)))<=0.005,0,S12-MIN(S12,MAX(0,$B12-SUMPRODUCT(($T12:$AA12<AA12)*$L12:$S12))))
A13: 10 | B13: =Debts!$B$4-(SUM($D13:$K13)-SUM($L13:$S13)) | C13: =SUM($AB13:$AI13) | D13: =IF(N(AB12)>0,N(AB12)*(1+N(Debts!$C$7)/1200),0) | E13: =IF(N(AC12)>0,N(AC12)*(1+N(Debts!$C$8)/1200),0) | F13: =IF(N(AD12)>0,N(AD12)*(1+N(Debts!$C$9)/1200),0) | G13: =IF(N(AE12)>0,N(AE12)*(1+N(Debts!$C$10)/1200),0) | H13: =IF(N(AF12)>0,N(AF12)*(1+N(Debts!$C$11)/1200),0) | I13: =IF(N(AG12)>0,N(AG12)*(1+N(Debts!$C$12)/1200),0) | J13: =IF(N(AH12)>0,N(AH12)*(1+N(Debts!$C$13)/1200),0) | K13: =IF(N(AI12)>0,N(AI12)*(1+N(Debts!$C$14)/1200),0) | L13: =D13-MIN(N(Debts!$D$7),D13) | M13: =E13-MIN(N(Debts!$D$8),E13) | N13: =F13-MIN(N(Debts!$D$9),F13) | O13: =G13-MIN(N(Debts!$D$10),G13) | P13: =H13-MIN(N(Debts!$D$11),H13) | Q13: =I13-MIN(N(Debts!$D$12),I13) | R13: =J13-MIN(N(Debts!$D$13),J13) | S13: =K13-MIN(N(Debts!$D$14),K13) | T13: =IF(L13<=0.005,99,1+SUMPRODUCT(($L13:$S13>0.005)*(($L2:$S2>L$2)+($L2:$S2=L$2)*($L13:$S13<L13)+($L2:$S2=L$2)*($L13:$S13=L13)*($L1:$S1<L$1)))) | U13: =IF(M13<=0.005,99,1+SUMPRODUCT(($L13:$S13>0.005)*(($L2:$S2>M$2)+($L2:$S2=M$2)*($L13:$S13<M13)+($L2:$S2=M$2)*($L13:$S13=M13)*($L1:$S1<M$1)))) | V13: =IF(N13<=0.005,99,1+SUMPRODUCT(($L13:$S13>0.005)*(($L2:$S2>N$2)+($L2:$S2=N$2)*($L13:$S13<N13)+($L2:$S2=N$2)*($L13:$S13=N13)*($L1:$S1<N$1)))) | W13: =IF(O13<=0.005,99,1+SUMPRODUCT(($L13:$S13>0.005)*(($L2:$S2>O$2)+($L2:$S2=O$2)*($L13:$S13<O13)+($L2:$S2=O$2)*($L13:$S13=O13)*($L1:$S1<O$1)))) | X13: =IF(P13<=0.005,99,1+SUMPRODUCT(($L13:$S13>0.005)*(($L2:$S2>P$2)+($L2:$S2=P$2)*($L13:$S13<P13)+($L2:$S2=P$2)*($L13:$S13=P13)*($L1:$S1<P$1)))) | Y13: =IF(Q13<=0.005,99,1+SUMPRODUCT(($L13:$S13>0.005)*(($L2:$S2>Q$2)+($L2:$S2=Q$2)*($L13:$S13<Q13)+($L2:$S2=Q$2)*($L13:$S13=Q13)*($L1:$S1<Q$1)))) | Z13: =IF(R13<=0.005,99,1+SUMPRODUCT(($L13:$S13>0.005)*(($L2:$S2>R$2)+($L2:$S2=R$2)*($L13:$S13<R13)+($L2:$S2=R$2)*($L13:$S13=R13)*($L1:$S1<R$1)))) | AA13: =IF(S13<=0.005,99,1+SUMPRODUCT(($L13:$S13>0.005)*(($L2:$S2>S$2)+($L2:$S2=S$2)*($L13:$S13<S13)+($L2:$S2=S$2)*($L13:$S13=S13)*($L1:$S1<S$1)))) | AB13: =IF(L13-MIN(L13,MAX(0,$B13-SUMPRODUCT(($T13:$AA13<T13)*$L13:$S13)))<=0.005,0,L13-MIN(L13,MAX(0,$B13-SUMPRODUCT(($T13:$AA13<T13)*$L13:$S13)))) | AC13: =IF(M13-MIN(M13,MAX(0,$B13-SUMPRODUCT(($T13:$AA13<U13)*$L13:$S13)))<=0.005,0,M13-MIN(M13,MAX(0,$B13-SUMPRODUCT(($T13:$AA13<U13)*$L13:$S13)))) | AD13: =IF(N13-MIN(N13,MAX(0,$B13-SUMPRODUCT(($T13:$AA13<V13)*$L13:$S13)))<=0.005,0,N13-MIN(N13,MAX(0,$B13-SUMPRODUCT(($T13:$AA13<V13)*$L13:$S13)))) | AE13: =IF(O13-MIN(O13,MAX(0,$B13-SUMPRODUCT(($T13:$AA13<W13)*$L13:$S13)))<=0.005,0,O13-MIN(O13,MAX(0,$B13-SUMPRODUCT(($T13:$AA13<W13)*$L13:$S13)))) | AF13: =IF(P13-MIN(P13,MAX(0,$B13-SUMPRODUCT(($T13:$AA13<X13)*$L13:$S13)))<=0.005,0,P13-MIN(P13,MAX(0,$B13-SUMPRODUCT(($T13:$AA13<X13)*$L13:$S13)))) | AG13: =IF(Q13-MIN(Q13,MAX(0,$B13-SUMPRODUCT(($T13:$AA13<Y13)*$L13:$S13)))<=0.005,0,Q13-MIN(Q13,MAX(0,$B13-SUMPRODUCT(($T13:$AA13<Y13)*$L13:$S13)))) | AH13: =IF(R13-MIN(R13,MAX(0,$B13-SUMPRODUCT(($T13:$AA13<Z13)*$L13:$S13)))<=0.005,0,R13-MIN(R13,MAX(0,$B13-SUMPRODUCT(($T13:$AA13<Z13)*$L13:$S13)))) | AI13: =IF(S13-MIN(S13,MAX(0,$B13-SUMPRODUCT(($T13:$AA13<AA13)*$L13:$S13)))<=0.005,0,S13-MIN(S13,MAX(0,$B13-SUMPRODUCT(($T13:$AA13<AA13)*$L13:$S13))))
A14: 11 | B14: =Debts!$B$4-(SUM($D14:$K14)-SUM($L14:$S14)) | C14: =SUM($AB14:$AI14) | D14: =IF(N(AB13)>0,N(AB13)*(1+N(Debts!$C$7)/1200),0) | E14: =IF(N(AC13)>0,N(AC13)*(1+N(Debts!$C$8)/1200),0) | F14: =IF(N(AD13)>0,N(AD13)*(1+N(Debts!$C$9)/1200),0) | G14: =IF(N(AE13)>0,N(AE13)*(1+N(Debts!$C$10)/1200),0) | H14: =IF(N(AF13)>0,N(AF13)*(1+N(Debts!$C$11)/1200),0) | I14: =IF(N(AG13)>0,N(AG13)*(1+N(Debts!$C$12)/1200),0) | J14: =IF(N(AH13)>0,N(AH13)*(1+N(Debts!$C$13)/1200),0) | K14: =IF(N(AI13)>0,N(AI13)*(1+N(Debts!$C$14)/1200),0) | L14: =D14-MIN(N(Debts!$D$7),D14) | M14: =E14-MIN(N(Debts!$D$8),E14) | N14: =F14-MIN(N(Debts!$D$9),F14) | O14: =G14-MIN(N(Debts!$D$10),G14) | P14: =H14-MIN(N(Debts!$D$11),H14) | Q14: =I14-MIN(N(Debts!$D$12),I14) | R14: =J14-MIN(N(Debts!$D$13),J14) | S14: =K14-MIN(N(Debts!$D$14),K14) | T14: =IF(L14<=0.005,99,1+SUMPRODUCT(($L14:$S14>0.005)*(($L2:$S2>L$2)+($L2:$S2=L$2)*($L14:$S14<L14)+($L2:$S2=L$2)*($L14:$S14=L14)*($L1:$S1<L$1)))) | U14: =IF(M14<=0.005,99,1+SUMPRODUCT(($L14:$S14>0.005)*(($L2:$S2>M$2)+($L2:$S2=M$2)*($L14:$S14<M14)+($L2:$S2=M$2)*($L14:$S14=M14)*($L1:$S1<M$1)))) | V14: =IF(N14<=0.005,99,1+SUMPRODUCT(($L14:$S14>0.005)*(($L2:$S2>N$2)+($L2:$S2=N$2)*($L14:$S14<N14)+($L2:$S2=N$2)*($L14:$S14=N14)*($L1:$S1<N$1)))) | W14: =IF(O14<=0.005,99,1+SUMPRODUCT(($L14:$S14>0.005)*(($L2:$S2>O$2)+($L2:$S2=O$2)*($L14:$S14<O14)+($L2:$S2=O$2)*($L14:$S14=O14)*($L1:$S1<O$1)))) | X14: =IF(P14<=0.005,99,1+SUMPRODUCT(($L14:$S14>0.005)*(($L2:$S2>P$2)+($L2:$S2=P$2)*($L14:$S14<P14)+($L2:$S2=P$2)*($L14:$S14=P14)*($L1:$S1<P$1)))) | Y14: =IF(Q14<=0.005,99,1+SUMPRODUCT(($L14:$S14>0.005)*(($L2:$S2>Q$2)+($L2:$S2=Q$2)*($L14:$S14<Q14)+($L2:$S2=Q$2)*($L14:$S14=Q14)*($L1:$S1<Q$1)))) | Z14: =IF(R14<=0.005,99,1+SUMPRODUCT(($L14:$S14>0.005)*(($L2:$S2>R$2)+($L2:$S2=R$2)*($L14:$S14<R14)+($L2:$S2=R$2)*($L14:$S14=R14)*($L1:$S1<R$1)))) | AA14: =IF(S14<=0.005,99,1+SUMPRODUCT(($L14:$S14>0.005)*(($L2:$S2>S$2)+($L2:$S2=S$2)*($L14:$S14<S14)+($L2:$S2=S$2)*($L14:$S14=S14)*($L1:$S1<S$1)))) | AB14: =IF(L14-MIN(L14,MAX(0,$B14-SUMPRODUCT(($T14:$AA14<T14)*$L14:$S14)))<=0.005,0,L14-MIN(L14,MAX(0,$B14-SUMPRODUCT(($T14:$AA14<T14)*$L14:$S14)))) | AC14: =IF(M14-MIN(M14,MAX(0,$B14-SUMPRODUCT(($T14:$AA14<U14)*$L14:$S14)))<=0.005,0,M14-MIN(M14,MAX(0,$B14-SUMPRODUCT(($T14:$AA14<U14)*$L14:$S14)))) | AD14: =IF(N14-MIN(N14,MAX(0,$B14-SUMPRODUCT(($T14:$AA14<V14)*$L14:$S14)))<=0.005,0,N14-MIN(N14,MAX(0,$B14-SUMPRODUCT(($T14:$AA14<V14)*$L14:$S14)))) | AE14: =IF(O14-MIN(O14,MAX(0,$B14-SUMPRODUCT(($T14:$AA14<W14)*$L14:$S14)))<=0.005,0,O14-MIN(O14,MAX(0,$B14-SUMPRODUCT(($T14:$AA14<W14)*$L14:$S14)))) | AF14: =IF(P14-MIN(P14,MAX(0,$B14-SUMPRODUCT(($T14:$AA14<X14)*$L14:$S14)))<=0.005,0,P14-MIN(P14,MAX(0,$B14-SUMPRODUCT(($T14:$AA14<X14)*$L14:$S14)))) | AG14: =IF(Q14-MIN(Q14,MAX(0,$B14-SUMPRODUCT(($T14:$AA14<Y14)*$L14:$S14)))<=0.005,0,Q14-MIN(Q14,MAX(0,$B14-SUMPRODUCT(($T14:$AA14<Y14)*$L14:$S14)))) | AH14: =IF(R14-MIN(R14,MAX(0,$B14-SUMPRODUCT(($T14:$AA14<Z14)*$L14:$S14)))<=0.005,0,R14-MIN(R14,MAX(0,$B14-SUMPRODUCT(($T14:$AA14<Z14)*$L14:$S14)))) | AI14: =IF(S14-MIN(S14,MAX(0,$B14-SUMPRODUCT(($T14:$AA14<AA14)*$L14:$S14)))<=0.005,0,S14-MIN(S14,MAX(0,$B14-SUMPRODUCT(($T14:$AA14<AA14)*$L14:$S14))))
A15: 12 | B15: =Debts!$B$4-(SUM($D15:$K15)-SUM($L15:$S15)) | C15: =SUM($AB15:$AI15) | D15: =IF(N(AB14)>0,N(AB14)*(1+N(Debts!$C$7)/1200),0) | E15: =IF(N(AC14)>0,N(AC14)*(1+N(Debts!$C$8)/1200),0) | F15: =IF(N(AD14)>0,N(AD14)*(1+N(Debts!$C$9)/1200),0) | G15: =IF(N(AE14)>0,N(AE14)*(1+N(Debts!$C$10)/1200),0) | H15: =IF(N(AF14)>0,N(AF14)*(1+N(Debts!$C$11)/1200),0) | I15: =IF(N(AG14)>0,N(AG14)*(1+N(Debts!$C$12)/1200),0) | J15: =IF(N(AH14)>0,N(AH14)*(1+N(Debts!$C$13)/1200),0) | K15: =IF(N(AI14)>0,N(AI14)*(1+N(Debts!$C$14)/1200),0) | L15: =D15-MIN(N(Debts!$D$7),D15) | M15: =E15-MIN(N(Debts!$D$8),E15) | N15: =F15-MIN(N(Debts!$D$9),F15) | O15: =G15-MIN(N(Debts!$D$10),G15) | P15: =H15-MIN(N(Debts!$D$11),H15) | Q15: =I15-MIN(N(Debts!$D$12),I15) | R15: =J15-MIN(N(Debts!$D$13),J15) | S15: =K15-MIN(N(Debts!$D$14),K15) | T15: =IF(L15<=0.005,99,1+SUMPRODUCT(($L15:$S15>0.005)*(($L2:$S2>L$2)+($L2:$S2=L$2)*($L15:$S15<L15)+($L2:$S2=L$2)*($L15:$S15=L15)*($L1:$S1<L$1)))) | U15: =IF(M15<=0.005,99,1+SUMPRODUCT(($L15:$S15>0.005)*(($L2:$S2>M$2)+($L2:$S2=M$2)*($L15:$S15<M15)+($L2:$S2=M$2)*($L15:$S15=M15)*($L1:$S1<M$1)))) | V15: =IF(N15<=0.005,99,1+SUMPRODUCT(($L15:$S15>0.005)*(($L2:$S2>N$2)+($L2:$S2=N$2)*($L15:$S15<N15)+($L2:$S2=N$2)*($L15:$S15=N15)*($L1:$S1<N$1)))) | W15: =IF(O15<=0.005,99,1+SUMPRODUCT(($L15:$S15>0.005)*(($L2:$S2>O$2)+($L2:$S2=O$2)*($L15:$S15<O15)+($L2:$S2=O$2)*($L15:$S15=O15)*($L1:$S1<O$1)))) | X15: =IF(P15<=0.005,99,1+SUMPRODUCT(($L15:$S15>0.005)*(($L2:$S2>P$2)+($L2:$S2=P$2)*($L15:$S15<P15)+($L2:$S2=P$2)*($L15:$S15=P15)*($L1:$S1<P$1)))) | Y15: =IF(Q15<=0.005,99,1+SUMPRODUCT(($L15:$S15>0.005)*(($L2:$S2>Q$2)+($L2:$S2=Q$2)*($L15:$S15<Q15)+($L2:$S2=Q$2)*($L15:$S15=Q15)*($L1:$S1<Q$1)))) | Z15: =IF(R15<=0.005,99,1+SUMPRODUCT(($L15:$S15>0.005)*(($L2:$S2>R$2)+($L2:$S2=R$2)*($L15:$S15<R15)+($L2:$S2=R$2)*($L15:$S15=R15)*($L1:$S1<R$1)))) | AA15: =IF(S15<=0.005,99,1+SUMPRODUCT(($L15:$S15>0.005)*(($L2:$S2>S$2)+($L2:$S2=S$2)*($L15:$S15<S15)+($L2:$S2=S$2)*($L15:$S15=S15)*($L1:$S1<S$1)))) | AB15: =IF(L15-MIN(L15,MAX(0,$B15-SUMPRODUCT(($T15:$AA15<T15)*$L15:$S15)))<=0.005,0,L15-MIN(L15,MAX(0,$B15-SUMPRODUCT(($T15:$AA15<T15)*$L15:$S15)))) | AC15: =IF(M15-MIN(M15,MAX(0,$B15-SUMPRODUCT(($T15:$AA15<U15)*$L15:$S15)))<=0.005,0,M15-MIN(M15,MAX(0,$B15-SUMPRODUCT(($T15:$AA15<U15)*$L15:$S15)))) | AD15: =IF(N15-MIN(N15,MAX(0,$B15-SUMPRODUCT(($T15:$AA15<V15)*$L15:$S15)))<=0.005,0,N15-MIN(N15,MAX(0,$B15-SUMPRODUCT(($T15:$AA15<V15)*$L15:$S15)))) | AE15: =IF(O15-MIN(O15,MAX(0,$B15-SUMPRODUCT(($T15:$AA15<W15)*$L15:$S15)))<=0.005,0,O15-MIN(O15,MAX(0,$B15-SUMPRODUCT(($T15:$AA15<W15)*$L15:$S15)))) | AF15: =IF(P15-MIN(P15,MAX(0,$B15-SUMPRODUCT(($T15:$AA15<X15)*$L15:$S15)))<=0.005,0,P15-MIN(P15,MAX(0,$B15-SUMPRODUCT(($T15:$AA15<X15)*$L15:$S15)))) | AG15: =IF(Q15-MIN(Q15,MAX(0,$B15-SUMPRODUCT(($T15:$AA15<Y15)*$L15:$S15)))<=0.005,0,Q15-MIN(Q15,MAX(0,$B15-SUMPRODUCT(($T15:$AA15<Y15)*$L15:$S15)))) | AH15: =IF(R15-MIN(R15,MAX(0,$B15-SUMPRODUCT(($T15:$AA15<Z15)*$L15:$S15)))<=0.005,0,R15-MIN(R15,MAX(0,$B15-SUMPRODUCT(($T15:$AA15<Z15)*$L15:$S15)))) | AI15: =IF(S15-MIN(S15,MAX(0,$B15-SUMPRODUCT(($T15:$AA15<AA15)*$L15:$S15)))<=0.005,0,S15-MIN(S15,MAX(0,$B15-SUMPRODUCT(($T15:$AA15<AA15)*$L15:$S15))))
A16: 13 | B16: =Debts!$B$4-(SUM($D16:$K16)-SUM($L16:$S16)) | C16: =SUM($AB16:$AI16) | D16: =IF(N(AB15)>0,N(AB15)*(1+N(Debts!$C$7)/1200),0) | E16: =IF(N(AC15)>0,N(AC15)*(1+N(Debts!$C$8)/1200),0) | F16: =IF(N(AD15)>0,N(AD15)*(1+N(Debts!$C$9)/1200),0) | G16: =IF(N(AE15)>0,N(AE15)*(1+N(Debts!$C$10)/1200),0) | H16: =IF(N(AF15)>0,N(AF15)*(1+N(Debts!$C$11)/1200),0) | I16: =IF(N(AG15)>0,N(AG15)*(1+N(Debts!$C$12)/1200),0) | J16: =IF(N(AH15)>0,N(AH15)*(1+N(Debts!$C$13)/1200),0) | K16: =IF(N(AI15)>0,N(AI15)*(1+N(Debts!$C$14)/1200),0) | L16: =D16-MIN(N(Debts!$D$7),D16) | M16: =E16-MIN(N(Debts!$D$8),E16) | N16: =F16-MIN(N(Debts!$D$9),F16) | O16: =G16-MIN(N(Debts!$D$10),G16) | P16: =H16-MIN(N(Debts!$D$11),H16) | Q16: =I16-MIN(N(Debts!$D$12),I16) | R16: =J16-MIN(N(Debts!$D$13),J16) | S16: =K16-MIN(N(Debts!$D$14),K16) | T16: =IF(L16<=0.005,99,1+SUMPRODUCT(($L16:$S16>0.005)*(($L2:$S2>L$2)+($L2:$S2=L$2)*($L16:$S16<L16)+($L2:$S2=L$2)*($L16:$S16=L16)*($L1:$S1<L$1)))) | U16: =IF(M16<=0.005,99,1+SUMPRODUCT(($L16:$S16>0.005)*(($L2:$S2>M$2)+($L2:$S2=M$2)*($L16:$S16<M16)+($L2:$S2=M$2)*($L16:$S16=M16)*($L1:$S1<M$1)))) | V16: =IF(N16<=0.005,99,1+SUMPRODUCT(($L16:$S16>0.005)*(($L2:$S2>N$2)+($L2:$S2=N$2)*($L16:$S16<N16)+($L2:$S2=N$2)*($L16:$S16=N16)*($L1:$S1<N$1)))) | W16: =IF(O16<=0.005,99,1+SUMPRODUCT(($L16:$S16>0.005)*(($L2:$S2>O$2)+($L2:$S2=O$2)*($L16:$S16<O16)+($L2:$S2=O$2)*($L16:$S16=O16)*($L1:$S1<O$1)))) | X16: =IF(P16<=0.005,99,1+SUMPRODUCT(($L16:$S16>0.005)*(($L2:$S2>P$2)+($L2:$S2=P$2)*($L16:$S16<P16)+($L2:$S2=P$2)*($L16:$S16=P16)*($L1:$S1<P$1)))) | Y16: =IF(Q16<=0.005,99,1+SUMPRODUCT(($L16:$S16>0.005)*(($L2:$S2>Q$2)+($L2:$S2=Q$2)*($L16:$S16<Q16)+($L2:$S2=Q$2)*($L16:$S16=Q16)*($L1:$S1<Q$1)))) | Z16: =IF(R16<=0.005,99,1+SUMPRODUCT(($L16:$S16>0.005)*(($L2:$S2>R$2)+($L2:$S2=R$2)*($L16:$S16<R16)+($L2:$S2=R$2)*($L16:$S16=R16)*($L1:$S1<R$1)))) | AA16: =IF(S16<=0.005,99,1+SUMPRODUCT(($L16:$S16>0.005)*(($L2:$S2>S$2)+($L2:$S2=S$2)*($L16:$S16<S16)+($L2:$S2=S$2)*($L16:$S16=S16)*($L1:$S1<S$1)))) | AB16: =IF(L16-MIN(L16,MAX(0,$B16-SUMPRODUCT(($T16:$AA16<T16)*$L16:$S16)))<=0.005,0,L16-MIN(L16,MAX(0,$B16-SUMPRODUCT(($T16:$AA16<T16)*$L16:$S16)))) | AC16: =IF(M16-MIN(M16,MAX(0,$B16-SUMPRODUCT(($T16:$AA16<U16)*$L16:$S16)))<=0.005,0,M16-MIN(M16,MAX(0,$B16-SUMPRODUCT(($T16:$AA16<U16)*$L16:$S16)))) | AD16: =IF(N16-MIN(N16,MAX(0,$B16-SUMPRODUCT(($T16:$AA16<V16)*$L16:$S16)))<=0.005,0,N16-MIN(N16,MAX(0,$B16-SUMPRODUCT(($T16:$AA16<V16)*$L16:$S16)))) | AE16: =IF(O16-MIN(O16,MAX(0,$B16-SUMPRODUCT(($T16:$AA16<W16)*$L16:$S16)))<=0.005,0,O16-MIN(O16,MAX(0,$B16-SUMPRODUCT(($T16:$AA16<W16)*$L16:$S16)))) | AF16: =IF(P16-MIN(P16,MAX(0,$B16-SUMPRODUCT(($T16:$AA16<X16)*$L16:$S16)))<=0.005,0,P16-MIN(P16,MAX(0,$B16-SUMPRODUCT(($T16:$AA16<X16)*$L16:$S16)))) | AG16: =IF(Q16-MIN(Q16,MAX(0,$B16-SUMPRODUCT(($T16:$AA16<Y16)*$L16:$S16)))<=0.005,0,Q16-MIN(Q16,MAX(0,$B16-SUMPRODUCT(($T16:$AA16<Y16)*$L16:$S16)))) | AH16: =IF(R16-MIN(R16,MAX(0,$B16-SUMPRODUCT(($T16:$AA16<Z16)*$L16:$S16)))<=0.005,0,R16-MIN(R16,MAX(0,$B16-SUMPRODUCT(($T16:$AA16<Z16)*$L16:$S16)))) | AI16: =IF(S16-MIN(S16,MAX(0,$B16-SUMPRODUCT(($T16:$AA16<AA16)*$L16:$S16)))<=0.005,0,S16-MIN(S16,MAX(0,$B16-SUMPRODUCT(($T16:$AA16<AA16)*$L16:$S16))))
A17: 14 | B17: =Debts!$B$4-(SUM($D17:$K17)-SUM($L17:$S17)) | C17: =SUM($AB17:$AI17) | D17: =IF(N(AB16)>0,N(AB16)*(1+N(Debts!$C$7)/1200),0) | E17: =IF(N(AC16)>0,N(AC16)*(1+N(Debts!$C$8)/1200),0) | F17: =IF(N(AD16)>0,N(AD16)*(1+N(Debts!$C$9)/1200),0) | G17: =IF(N(AE16)>0,N(AE16)*(1+N(Debts!$C$10)/1200),0) | H17: =IF(N(AF16)>0,N(AF16)*(1+N(Debts!$C$11)/1200),0) | I17: =IF(N(AG16)>0,N(AG16)*(1+N(Debts!$C$12)/1200),0) | J17: =IF(N(AH16)>0,N(AH16)*(1+N(Debts!$C$13)/1200),0) | K17: =IF(N(AI16)>0,N(AI16)*(1+N(Debts!$C$14)/1200),0) | L17: =D17-MIN(N(Debts!$D$7),D17) | M17: =E17-MIN(N(Debts!$D$8),E17) | N17: =F17-MIN(N(Debts!$D$9),F17) | O17: =G17-MIN(N(Debts!$D$10),G17) | P17: =H17-MIN(N(Debts!$D$11),H17) | Q17: =I17-MIN(N(Debts!$D$12),I17) | R17: =J17-MIN(N(Debts!$D$13),J17) | S17: =K17-MIN(N(Debts!$D$14),K17) | T17: =IF(L17<=0.005,99,1+SUMPRODUCT(($L17:$S17>0.005)*(($L2:$S2>L$2)+($L2:$S2=L$2)*($L17:$S17<L17)+($L2:$S2=L$2)*($L17:$S17=L17)*($L1:$S1<L$1)))) | U17: =IF(M17<=0.005,99,1+SUMPRODUCT(($L17:$S17>0.005)*(($L2:$S2>M$2)+($L2:$S2=M$2)*($L17:$S17<M17)+($L2:$S2=M$2)*($L17:$S17=M17)*($L1:$S1<M$1)))) | V17: =IF(N17<=0.005,99,1+SUMPRODUCT(($L17:$S17>0.005)*(($L2:$S2>N$2)+($L2:$S2=N$2)*($L17:$S17<N17)+($L2:$S2=N$2)*($L17:$S17=N17)*($L1:$S1<N$1)))) | W17: =IF(O17<=0.005,99,1+SUMPRODUCT(($L17:$S17>0.005)*(($L2:$S2>O$2)+($L2:$S2=O$2)*($L17:$S17<O17)+($L2:$S2=O$2)*($L17:$S17=O17)*($L1:$S1<O$1)))) | X17: =IF(P17<=0.005,99,1+SUMPRODUCT(($L17:$S17>0.005)*(($L2:$S2>P$2)+($L2:$S2=P$2)*($L17:$S17<P17)+($L2:$S2=P$2)*($L17:$S17=P17)*($L1:$S1<P$1)))) | Y17: =IF(Q17<=0.005,99,1+SUMPRODUCT(($L17:$S17>0.005)*(($L2:$S2>Q$2)+($L2:$S2=Q$2)*($L17:$S17<Q17)+($L2:$S2=Q$2)*($L17:$S17=Q17)*($L1:$S1<Q$1)))) | Z17: =IF(R17<=0.005,99,1+SUMPRODUCT(($L17:$S17>0.005)*(($L2:$S2>R$2)+($L2:$S2=R$2)*($L17:$S17<R17)+($L2:$S2=R$2)*($L17:$S17=R17)*($L1:$S1<R$1)))) | AA17: =IF(S17<=0.005,99,1+SUMPRODUCT(($L17:$S17>0.005)*(($L2:$S2>S$2)+($L2:$S2=S$2)*($L17:$S17<S17)+($L2:$S2=S$2)*($L17:$S17=S17)*($L1:$S1<S$1)))) | AB17: =IF(L17-MIN(L17,MAX(0,$B17-SUMPRODUCT(($T17:$AA17<T17)*$L17:$S17)))<=0.005,0,L17-MIN(L17,MAX(0,$B17-SUMPRODUCT(($T17:$AA17<T17)*$L17:$S17)))) | AC17: =IF(M17-MIN(M17,MAX(0,$B17-SUMPRODUCT(($T17:$AA17<U17)*$L17:$S17)))<=0.005,0,M17-MIN(M17,MAX(0,$B17-SUMPRODUCT(($T17:$AA17<U17)*$L17:$S17)))) | AD17: =IF(N17-MIN(N17,MAX(0,$B17-SUMPRODUCT(($T17:$AA17<V17)*$L17:$S17)))<=0.005,0,N17-MIN(N17,MAX(0,$B17-SUMPRODUCT(($T17:$AA17<V17)*$L17:$S17)))) | AE17: =IF(O17-MIN(O17,MAX(0,$B17-SUMPRODUCT(($T17:$AA17<W17)*$L17:$S17)))<=0.005,0,O17-MIN(O17,MAX(0,$B17-SUMPRODUCT(($T17:$AA17<W17)*$L17:$S17)))) | AF17: =IF(P17-MIN(P17,MAX(0,$B17-SUMPRODUCT(($T17:$AA17<X17)*$L17:$S17)))<=0.005,0,P17-MIN(P17,MAX(0,$B17-SUMPRODUCT(($T17:$AA17<X17)*$L17:$S17)))) | AG17: =IF(Q17-MIN(Q17,MAX(0,$B17-SUMPRODUCT(($T17:$AA17<Y17)*$L17:$S17)))<=0.005,0,Q17-MIN(Q17,MAX(0,$B17-SUMPRODUCT(($T17:$AA17<Y17)*$L17:$S17)))) | AH17: =IF(R17-MIN(R17,MAX(0,$B17-SUMPRODUCT(($T17:$AA17<Z17)*$L17:$S17)))<=0.005,0,R17-MIN(R17,MAX(0,$B17-SUMPRODUCT(($T17:$AA17<Z17)*$L17:$S17)))) | AI17: =IF(S17-MIN(S17,MAX(0,$B17-SUMPRODUCT(($T17:$AA17<AA17)*$L17:$S17)))<=0.005,0,S17-MIN(S17,MAX(0,$B17-SUMPRODUCT(($T17:$AA17<AA17)*$L17:$S17))))
A18: 15 | B18: =Debts!$B$4-(SUM($D18:$K18)-SUM($L18:$S18)) | C18: =SUM($AB18:$AI18) | D18: =IF(N(AB17)>0,N(AB17)*(1+N(Debts!$C$7)/1200),0) | E18: =IF(N(AC17)>0,N(AC17)*(1+N(Debts!$C$8)/1200),0) | F18: =IF(N(AD17)>0,N(AD17)*(1+N(Debts!$C$9)/1200),0) | G18: =IF(N(AE17)>0,N(AE17)*(1+N(Debts!$C$10)/1200),0) | H18: =IF(N(AF17)>0,N(AF17)*(1+N(Debts!$C$11)/1200),0) | I18: =IF(N(AG17)>0,N(AG17)*(1+N(Debts!$C$12)/1200),0) | J18: =IF(N(AH17)>0,N(AH17)*(1+N(Debts!$C$13)/1200),0) | K18: =IF(N(AI17)>0,N(AI17)*(1+N(Debts!$C$14)/1200),0) | L18: =D18-MIN(N(Debts!$D$7),D18) | M18: =E18-MIN(N(Debts!$D$8),E18) | N18: =F18-MIN(N(Debts!$D$9),F18) | O18: =G18-MIN(N(Debts!$D$10),G18) | P18: =H18-MIN(N(Debts!$D$11),H18) | Q18: =I18-MIN(N(Debts!$D$12),I18) | R18: =J18-MIN(N(Debts!$D$13),J18) | S18: =K18-MIN(N(Debts!$D$14),K18) | T18: =IF(L18<=0.005,99,1+SUMPRODUCT(($L18:$S18>0.005)*(($L2:$S2>L$2)+($L2:$S2=L$2)*($L18:$S18<L18)+($L2:$S2=L$2)*($L18:$S18=L18)*($L1:$S1<L$1)))) | U18: =IF(M18<=0.005,99,1+SUMPRODUCT(($L18:$S18>0.005)*(($L2:$S2>M$2)+($L2:$S2=M$2)*($L18:$S18<M18)+($L2:$S2=M$2)*($L18:$S18=M18)*($L1:$S1<M$1)))) | V18: =IF(N18<=0.005,99,1+SUMPRODUCT(($L18:$S18>0.005)*(($L2:$S2>N$2)+($L2:$S2=N$2)*($L18:$S18<N18)+($L2:$S2=N$2)*($L18:$S18=N18)*($L1:$S1<N$1)))) | W18: =IF(O18<=0.005,99,1+SUMPRODUCT(($L18:$S18>0.005)*(($L2:$S2>O$2)+($L2:$S2=O$2)*($L18:$S18<O18)+($L2:$S2=O$2)*($L18:$S18=O18)*($L1:$S1<O$1)))) | X18: =IF(P18<=0.005,99,1+SUMPRODUCT(($L18:$S18>0.005)*(($L2:$S2>P$2)+($L2:$S2=P$2)*($L18:$S18<P18)+($L2:$S2=P$2)*($L18:$S18=P18)*($L1:$S1<P$1)))) | Y18: =IF(Q18<=0.005,99,1+SUMPRODUCT(($L18:$S18>0.005)*(($L2:$S2>Q$2)+($L2:$S2=Q$2)*($L18:$S18<Q18)+($L2:$S2=Q$2)*($L18:$S18=Q18)*($L1:$S1<Q$1)))) | Z18: =IF(R18<=0.005,99,1+SUMPRODUCT(($L18:$S18>0.005)*(($L2:$S2>R$2)+($L2:$S2=R$2)*($L18:$S18<R18)+($L2:$S2=R$2)*($L18:$S18=R18)*($L1:$S1<R$1)))) | AA18: =IF(S18<=0.005,99,1+SUMPRODUCT(($L18:$S18>0.005)*(($L2:$S2>S$2)+($L2:$S2=S$2)*($L18:$S18<S18)+($L2:$S2=S$2)*($L18:$S18=S18)*($L1:$S1<S$1)))) | AB18: =IF(L18-MIN(L18,MAX(0,$B18-SUMPRODUCT(($T18:$AA18<T18)*$L18:$S18)))<=0.005,0,L18-MIN(L18,MAX(0,$B18-SUMPRODUCT(($T18:$AA18<T18)*$L18:$S18)))) | AC18: =IF(M18-MIN(M18,MAX(0,$B18-SUMPRODUCT(($T18:$AA18<U18)*$L18:$S18)))<=0.005,0,M18-MIN(M18,MAX(0,$B18-SUMPRODUCT(($T18:$AA18<U18)*$L18:$S18)))) | AD18: =IF(N18-MIN(N18,MAX(0,$B18-SUMPRODUCT(($T18:$AA18<V18)*$L18:$S18)))<=0.005,0,N18-MIN(N18,MAX(0,$B18-SUMPRODUCT(($T18:$AA18<V18)*$L18:$S18)))) | AE18: =IF(O18-MIN(O18,MAX(0,$B18-SUMPRODUCT(($T18:$AA18<W18)*$L18:$S18)))<=0.005,0,O18-MIN(O18,MAX(0,$B18-SUMPRODUCT(($T18:$AA18<W18)*$L18:$S18)))) | AF18: =IF(P18-MIN(P18,MAX(0,$B18-SUMPRODUCT(($T18:$AA18<X18)*$L18:$S18)))<=0.005,0,P18-MIN(P18,MAX(0,$B18-SUMPRODUCT(($T18:$AA18<X18)*$L18:$S18)))) | AG18: =IF(Q18-MIN(Q18,MAX(0,$B18-SUMPRODUCT(($T18:$AA18<Y18)*$L18:$S18)))<=0.005,0,Q18-MIN(Q18,MAX(0,$B18-SUMPRODUCT(($T18:$AA18<Y18)*$L18:$S18)))) | AH18: =IF(R18-MIN(R18,MAX(0,$B18-SUMPRODUCT(($T18:$AA18<Z18)*$L18:$S18)))<=0.005,0,R18-MIN(R18,MAX(0,$B18-SUMPRODUCT(($T18:$AA18<Z18)*$L18:$S18)))) | AI18: =IF(S18-MIN(S18,MAX(0,$B18-SUMPRODUCT(($T18:$AA18<AA18)*$L18:$S18)))<=0.005,0,S18-MIN(S18,MAX(0,$B18-SUMPRODUCT(($T18:$AA18<AA18)*$L18:$S18))))
A19: 16 | B19: =Debts!$B$4-(SUM($D19:$K19)-SUM($L19:$S19)) | C19: =SUM($AB19:$AI19) | D19: =IF(N(AB18)>0,N(AB18)*(1+N(Debts!$C$7)/1200),0) | E19: =IF(N(AC18)>0,N(AC18)*(1+N(Debts!$C$8)/1200),0) | F19: =IF(N(AD18)>0,N(AD18)*(1+N(Debts!$C$9)/1200),0) | G19: =IF(N(AE18)>0,N(AE18)*(1+N(Debts!$C$10)/1200),0) | H19: =IF(N(AF18)>0,N(AF18)*(1+N(Debts!$C$11)/1200),0) | I19: =IF(N(AG18)>0,N(AG18)*(1+N(Debts!$C$12)/1200),0) | J19: =IF(N(AH18)>0,N(AH18)*(1+N(Debts!$C$13)/1200),0) | K19: =IF(N(AI18)>0,N(AI18)*(1+N(Debts!$C$14)/1200),0) | L19: =D19-MIN(N(Debts!$D$7),D19) | M19: =E19-MIN(N(Debts!$D$8),E19) | N19: =F19-MIN(N(Debts!$D$9),F19) | O19: =G19-MIN(N(Debts!$D$10),G19) | P19: =H19-MIN(N(Debts!$D$11),H19) | Q19: =I19-MIN(N(Debts!$D$12),I19) | R19: =J19-MIN(N(Debts!$D$13),J19) | S19: =K19-MIN(N(Debts!$D$14),K19) | T19: =IF(L19<=0.005,99,1+SUMPRODUCT(($L19:$S19>0.005)*(($L2:$S2>L$2)+($L2:$S2=L$2)*($L19:$S19<L19)+($L2:$S2=L$2)*($L19:$S19=L19)*($L1:$S1<L$1)))) | U19: =IF(M19<=0.005,99,1+SUMPRODUCT(($L19:$S19>0.005)*(($L2:$S2>M$2)+($L2:$S2=M$2)*($L19:$S19<M19)+($L2:$S2=M$2)*($L19:$S19=M19)*($L1:$S1<M$1)))) | V19: =IF(N19<=0.005,99,1+SUMPRODUCT(($L19:$S19>0.005)*(($L2:$S2>N$2)+($L2:$S2=N$2)*($L19:$S19<N19)+($L2:$S2=N$2)*($L19:$S19=N19)*($L1:$S1<N$1)))) | W19: =IF(O19<=0.005,99,1+SUMPRODUCT(($L19:$S19>0.005)*(($L2:$S2>O$2)+($L2:$S2=O$2)*($L19:$S19<O19)+($L2:$S2=O$2)*($L19:$S19=O19)*($L1:$S1<O$1)))) | X19: =IF(P19<=0.005,99,1+SUMPRODUCT(($L19:$S19>0.005)*(($L2:$S2>P$2)+($L2:$S2=P$2)*($L19:$S19<P19)+($L2:$S2=P$2)*($L19:$S19=P19)*($L1:$S1<P$1)))) | Y19: =IF(Q19<=0.005,99,1+SUMPRODUCT(($L19:$S19>0.005)*(($L2:$S2>Q$2)+($L2:$S2=Q$2)*($L19:$S19<Q19)+($L2:$S2=Q$2)*($L19:$S19=Q19)*($L1:$S1<Q$1)))) | Z19: =IF(R19<=0.005,99,1+SUMPRODUCT(($L19:$S19>0.005)*(($L2:$S2>R$2)+($L2:$S2=R$2)*($L19:$S19<R19)+($L2:$S2=R$2)*($L19:$S19=R19)*($L1:$S1<R$1)))) | AA19: =IF(S19<=0.005,99,1+SUMPRODUCT(($L19:$S19>0.005)*(($L2:$S2>S$2)+($L2:$S2=S$2)*($L19:$S19<S19)+($L2:$S2=S$2)*($L19:$S19=S19)*($L1:$S1<S$1)))) | AB19: =IF(L19-MIN(L19,MAX(0,$B19-SUMPRODUCT(($T19:$AA19<T19)*$L19:$S19)))<=0.005,0,L19-MIN(L19,MAX(0,$B19-SUMPRODUCT(($T19:$AA19<T19)*$L19:$S19)))) | AC19: =IF(M19-MIN(M19,MAX(0,$B19-SUMPRODUCT(($T19:$AA19<U19)*$L19:$S19)))<=0.005,0,M19-MIN(M19,MAX(0,$B19-SUMPRODUCT(($T19:$AA19<U19)*$L19:$S19)))) | AD19: =IF(N19-MIN(N19,MAX(0,$B19-SUMPRODUCT(($T19:$AA19<V19)*$L19:$S19)))<=0.005,0,N19-MIN(N19,MAX(0,$B19-SUMPRODUCT(($T19:$AA19<V19)*$L19:$S19)))) | AE19: =IF(O19-MIN(O19,MAX(0,$B19-SUMPRODUCT(($T19:$AA19<W19)*$L19:$S19)))<=0.005,0,O19-MIN(O19,MAX(0,$B19-SUMPRODUCT(($T19:$AA19<W19)*$L19:$S19)))) | AF19: =IF(P19-MIN(P19,MAX(0,$B19-SUMPRODUCT(($T19:$AA19<X19)*$L19:$S19)))<=0.005,0,P19-MIN(P19,MAX(0,$B19-SUMPRODUCT(($T19:$AA19<X19)*$L19:$S19)))) | AG19: =IF(Q19-MIN(Q19,MAX(0,$B19-SUMPRODUCT(($T19:$AA19<Y19)*$L19:$S19)))<=0.005,0,Q19-MIN(Q19,MAX(0,$B19-SUMPRODUCT(($T19:$AA19<Y19)*$L19:$S19)))) | AH19: =IF(R19-MIN(R19,MAX(0,$B19-SUMPRODUCT(($T19:$AA19<Z19)*$L19:$S19)))<=0.005,0,R19-MIN(R19,MAX(0,$B19-SUMPRODUCT(($T19:$AA19<Z19)*$L19:$S19)))) | AI19: =IF(S19-MIN(S19,MAX(0,$B19-SUMPRODUCT(($T19:$AA19<AA19)*$L19:$S19)))<=0.005,0,S19-MIN(S19,MAX(0,$B19-SUMPRODUCT(($T19:$AA19<AA19)*$L19:$S19))))
A20: 17 | B20: =Debts!$B$4-(SUM($D20:$K20)-SUM($L20:$S20)) | C20: =SUM($AB20:$AI20) | D20: =IF(N(AB19)>0,N(AB19)*(1+N(Debts!$C$7)/1200),0) | E20: =IF(N(AC19)>0,N(AC19)*(1+N(Debts!$C$8)/1200),0) | F20: =IF(N(AD19)>0,N(AD19)*(1+N(Debts!$C$9)/1200),0) | G20: =IF(N(AE19)>0,N(AE19)*(1+N(Debts!$C$10)/1200),0) | H20: =IF(N(AF19)>0,N(AF19)*(1+N(Debts!$C$11)/1200),0) | I20: =IF(N(AG19)>0,N(AG19)*(1+N(Debts!$C$12)/1200),0) | J20: =IF(N(AH19)>0,N(AH19)*(1+N(Debts!$C$13)/1200),0) | K20: =IF(N(AI19)>0,N(AI19)*(1+N(Debts!$C$14)/1200),0) | L20: =D20-MIN(N(Debts!$D$7),D20) | M20: =E20-MIN(N(Debts!$D$8),E20) | N20: =F20-MIN(N(Debts!$D$9),F20) | O20: =G20-MIN(N(Debts!$D$10),G20) | P20: =H20-MIN(N(Debts!$D$11),H20) | Q20: =I20-MIN(N(Debts!$D$12),I20) | R20: =J20-MIN(N(Debts!$D$13),J20) | S20: =K20-MIN(N(Debts!$D$14),K20) | T20: =IF(L20<=0.005,99,1+SUMPRODUCT(($L20:$S20>0.005)*(($L2:$S2>L$2)+($L2:$S2=L$2)*($L20:$S20<L20)+($L2:$S2=L$2)*($L20:$S20=L20)*($L1:$S1<L$1)))) | U20: =IF(M20<=0.005,99,1+SUMPRODUCT(($L20:$S20>0.005)*(($L2:$S2>M$2)+($L2:$S2=M$2)*($L20:$S20<M20)+($L2:$S2=M$2)*($L20:$S20=M20)*($L1:$S1<M$1)))) | V20: =IF(N20<=0.005,99,1+SUMPRODUCT(($L20:$S20>0.005)*(($L2:$S2>N$2)+($L2:$S2=N$2)*($L20:$S20<N20)+($L2:$S2=N$2)*($L20:$S20=N20)*($L1:$S1<N$1)))) | W20: =IF(O20<=0.005,99,1+SUMPRODUCT(($L20:$S20>0.005)*(($L2:$S2>O$2)+($L2:$S2=O$2)*($L20:$S20<O20)+($L2:$S2=O$2)*($L20:$S20=O20)*($L1:$S1<O$1)))) | X20: =IF(P20<=0.005,99,1+SUMPRODUCT(($L20:$S20>0.005)*(($L2:$S2>P$2)+($L2:$S2=P$2)*($L20:$S20<P20)+($L2:$S2=P$2)*($L20:$S20=P20)*($L1:$S1<P$1)))) | Y20: =IF(Q20<=0.005,99,1+SUMPRODUCT(($L20:$S20>0.005)*(($L2:$S2>Q$2)+($L2:$S2=Q$2)*($L20:$S20<Q20)+($L2:$S2=Q$2)*($L20:$S20=Q20)*($L1:$S1<Q$1)))) | Z20: =IF(R20<=0.005,99,1+SUMPRODUCT(($L20:$S20>0.005)*(($L2:$S2>R$2)+($L2:$S2=R$2)*($L20:$S20<R20)+($L2:$S2=R$2)*($L20:$S20=R20)*($L1:$S1<R$1)))) | AA20: =IF(S20<=0.005,99,1+SUMPRODUCT(($L20:$S20>0.005)*(($L2:$S2>S$2)+($L2:$S2=S$2)*($L20:$S20<S20)+($L2:$S2=S$2)*($L20:$S20=S20)*($L1:$S1<S$1)))) | AB20: =IF(L20-MIN(L20,MAX(0,$B20-SUMPRODUCT(($T20:$AA20<T20)*$L20:$S20)))<=0.005,0,L20-MIN(L20,MAX(0,$B20-SUMPRODUCT(($T20:$AA20<T20)*$L20:$S20)))) | AC20: =IF(M20-MIN(M20,MAX(0,$B20-SUMPRODUCT(($T20:$AA20<U20)*$L20:$S20)))<=0.005,0,M20-MIN(M20,MAX(0,$B20-SUMPRODUCT(($T20:$AA20<U20)*$L20:$S20)))) | AD20: =IF(N20-MIN(N20,MAX(0,$B20-SUMPRODUCT(($T20:$AA20<V20)*$L20:$S20)))<=0.005,0,N20-MIN(N20,MAX(0,$B20-SUMPRODUCT(($T20:$AA20<V20)*$L20:$S20)))) | AE20: =IF(O20-MIN(O20,MAX(0,$B20-SUMPRODUCT(($T20:$AA20<W20)*$L20:$S20)))<=0.005,0,O20-MIN(O20,MAX(0,$B20-SUMPRODUCT(($T20:$AA20<W20)*$L20:$S20)))) | AF20: =IF(P20-MIN(P20,MAX(0,$B20-SUMPRODUCT(($T20:$AA20<X20)*$L20:$S20)))<=0.005,0,P20-MIN(P20,MAX(0,$B20-SUMPRODUCT(($T20:$AA20<X20)*$L20:$S20)))) | AG20: =IF(Q20-MIN(Q20,MAX(0,$B20-SUMPRODUCT(($T20:$AA20<Y20)*$L20:$S20)))<=0.005,0,Q20-MIN(Q20,MAX(0,$B20-SUMPRODUCT(($T20:$AA20<Y20)*$L20:$S20)))) | AH20: =IF(R20-MIN(R20,MAX(0,$B20-SUMPRODUCT(($T20:$AA20<Z20)*$L20:$S20)))<=0.005,0,R20-MIN(R20,MAX(0,$B20-SUMPRODUCT(($T20:$AA20<Z20)*$L20:$S20)))) | AI20: =IF(S20-MIN(S20,MAX(0,$B20-SUMPRODUCT(($T20:$AA20<AA20)*$L20:$S20)))<=0.005,0,S20-MIN(S20,MAX(0,$B20-SUMPRODUCT(($T20:$AA20<AA20)*$L20:$S20))))
